BEGIN:VCALENDAR
PRODID:NingEventWidget-v1
VERSION:2.0
METHOD:PUBLISH
BEGIN:VTIMEZONE
TZID:Europe/Paris
X-LIC-LOCATION:Europe/Paris
BEGIN:DAYLIGHT
TZOFFSETFROM:+0100
TZOFFSETTO:+0200
TZNAME:CEST
DTSTART:19700329T020000
RRULE:FREQ=YEARLY;BYMONTH=3;BYDAY=-1SU
END:DAYLIGHT
BEGIN:STANDARD
TZOFFSETFROM:+0200
TZOFFSETTO:+0100
TZNAME:CET
DTSTART:19701025T030000
RRULE:FREQ=YEARLY;BYMONTH=10;BYDAY=-1SU
END:STANDARD
END:VTIMEZONE
BEGIN:VEVENT
UID:2485226:Event:2899980
DTSTAMP:20260421T130835Z
SUMMARY:Méditation pleine conscience : être dans le moment présent
DESCRIPTION:Dimanche 11 FEVRIER de 11h à 13h30  : atelier thématiqu
 e de Méditation Pleine Conscience : Pleine conscience et Moment pré
 sent\nComment vivre l’expérience d'ETRE DANS LE MOMENT PRESENT st
 abilisé progressivement en Pleine Conscience \nAinsi, en restant cen
 trée sur le corps et la respiration, dans une attitude d'accueil, de 
 présence et de disponibilité, la conscience s'éveille et se stabil
 ise dans le moment présent. \nPratiques méditatives guidées, temps
  prolongés en silence. Partage des vécus dans le respect. Le thème 
 soutiendra tout au long les pratiques et les guidances de l'atelier.\n
 Inscription par mail svp : espacebeauregard75@yahoo.fr\nTarif : 30€
 . \nSe renseigner auprès de Christiane Beaugé - Enseignante Médita
 tion Pleine Conscience MBSR - Sophrologue Relaxologue.\n\nPour plus d'
 information, aller sur https://epanews.fr/events/m-ditation-pleine-con
 science-tre-dans-le-moment-pr-sent
DTSTART;TZID=Europe/Paris:20180211T110000
DTEND;TZID=Europe/Paris:20180211T133000
CATEGORIES:75
LOCATION:Paris 75002
WEBSITE:http://www.pleineconscience75.com
URL:http://www.pleineconscience75.com
CONTACT:
ORGANIZER;CN="Christiane Beaugé":https://epanews.fr/profile/Christian
 eBeauge
ATTACH;FMTTYPE="image/jpeg":http://storage.ning.com/topology/rest/1.0/
 file/get/1663592392?profile=original
ATTENDEE;ROLE=REQ-PARTICIPANT;PARTSTAT=ACCEPTED;RSVP=TRUE;CN="Christia
 ne Beaugé":https://epanews.fr/profile/ChristianeBeauge
END:VEVENT
END:VCALENDAR
