BEGIN:VCALENDAR
PRODID:NingEventWidget-v1
VERSION:2.0
METHOD:PUBLISH
BEGIN:VTIMEZONE
TZID:Europe/Paris
X-LIC-LOCATION:Europe/Paris
BEGIN:DAYLIGHT
TZOFFSETFROM:+0100
TZOFFSETTO:+0200
TZNAME:CEST
DTSTART:19700329T020000
RRULE:FREQ=YEARLY;BYMONTH=3;BYDAY=-1SU
END:DAYLIGHT
BEGIN:STANDARD
TZOFFSETFROM:+0200
TZOFFSETTO:+0100
TZNAME:CET
DTSTART:19701025T030000
RRULE:FREQ=YEARLY;BYMONTH=10;BYDAY=-1SU
END:STANDARD
END:VTIMEZONE
BEGIN:VEVENT
UID:2485226:Event:1652292
DTSTAMP:20260422T222615Z
SUMMARY:Méditation Pleine Conscience : pratique hébdomadaire
DESCRIPTION:Ce cours est basé uniquement sur la posture en assise (co
 ussin ou chaise) dans l’état d’esprit de la Pleine Conscience.Il 
 permet de pratiquer en groupe et de soutenir la régularité de l’en
 trainement grâce à la pratique guidée de l’assise méditative.\nP
 rogression sur les semaines. Aucun niveau requis. Inscription tout au 
 long de l'année. Guidance verbalisée – Temps de silence-\nLe cours
  est proposé :- 2 samedi / mois de 13h à 14h.- le mardi soir de 20h3
 0 à 21h30\nContacter Christiane Beaugé - Enseignante de la Méditati
 on pleine Conscience et du programme MBSR (Réduction du Stress) - Sop
 hrologue - relaxologue - 75003\n\n\n\nPour plus d'information, aller s
 ur https://epanews.fr/events/m-ditation-pleine-conscience-pratique-h-b
 domadaire
DTSTART;TZID=Europe/Paris:20140111T130000
DTEND;TZID=Europe/Paris:20140111T140000
CATEGORIES:75
LOCATION:paris 75003
WEBSITE:http://www.pleineconscience75.com
URL:http://www.pleineconscience75.com
CONTACT:06 70 49 32 38 - 01 44 61 74 59
ORGANIZER;CN="Christiane Beaugé":https://epanews.fr/profile/Christian
 eBeauge
ATTACH;FMTTYPE="image/jpeg":http://storage.ning.com/topology/rest/1.0/
 file/get/1662979409?profile=original
ATTENDEE;ROLE=REQ-PARTICIPANT;PARTSTAT=ACCEPTED;RSVP=TRUE;CN="Christia
 ne Beaugé":https://epanews.fr/profile/ChristianeBeauge
END:VEVENT
END:VCALENDAR
