BEGIN:VCALENDAR
PRODID:NingEventWidget-v1
VERSION:2.0
METHOD:PUBLISH
BEGIN:VTIMEZONE
TZID:Europe/Paris
X-LIC-LOCATION:Europe/Paris
BEGIN:DAYLIGHT
TZOFFSETFROM:+0100
TZOFFSETTO:+0200
TZNAME:CEST
DTSTART:19700329T020000
RRULE:FREQ=YEARLY;BYMONTH=3;BYDAY=-1SU
END:DAYLIGHT
BEGIN:STANDARD
TZOFFSETFROM:+0200
TZOFFSETTO:+0100
TZNAME:CET
DTSTART:19701025T030000
RRULE:FREQ=YEARLY;BYMONTH=10;BYDAY=-1SU
END:STANDARD
END:VTIMEZONE
BEGIN:VEVENT
UID:2485226:Event:2972038
DTSTAMP:20260424T142543Z
SUMMARY:Méditation pleine conscience : présence centrée et ouverte
DESCRIPTION:Dimanche 30 SEPTEMBRE de 11h à 13h30  : atelier de Médi
 tation Pleine Conscience : THEME : \"Présence centrée et ouverte\"\
 nComment vivre l’expérience d'une PRESENCE CENTREE ET OUVERTE stab
 ilisée progressivement en Pleine Conscience\nPratiques méditatives g
 uidées, temps prolongés en silence. Partage des vécus dans le respe
 ct.\nAssise méditative et postures variées en mouvements dont la mar
 che. Le thème soutiendra tout au long les pratiques et les guidances 
 de l'atelier.\nInscription par mail svp : espacebeauregard75@yahoo.fr
 \nTarif : 30€. \nSe renseigner auprès de Christiane Beaugé - Ense
 ignante Méditation Pleine Conscience MBSR - Sophrologue Relaxologue.\
 n\nPour plus d'information, aller sur https://epanews.fr/events/m-dita
 tion-pleine-conscience-pr-sence-centr-e-et-ouverte
DTSTART;TZID=Europe/Paris:20180930T110000
DTEND;TZID=Europe/Paris:20180930T133000
CATEGORIES:75
LOCATION:Paris 75002
WEBSITE:http://www.pleineconscience75.com
URL:http://www.pleineconscience75.com
CONTACT:
ORGANIZER;CN="Christiane Beaugé":https://epanews.fr/profile/Christian
 eBeauge
ATTACH;FMTTYPE="image/jpeg":http://storage.ning.com/topology/rest/1.0/
 file/get/1663592392?profile=original
ATTENDEE;ROLE=REQ-PARTICIPANT;PARTSTAT=ACCEPTED;RSVP=TRUE;CN="Christia
 ne Beaugé":https://epanews.fr/profile/ChristianeBeauge
END:VEVENT
END:VCALENDAR
