BEGIN:VCALENDAR
PRODID:NingEventWidget-v1
VERSION:2.0
METHOD:PUBLISH
BEGIN:VTIMEZONE
TZID:Europe/Paris
X-LIC-LOCATION:Europe/Paris
BEGIN:DAYLIGHT
TZOFFSETFROM:+0100
TZOFFSETTO:+0200
TZNAME:CEST
DTSTART:19700329T020000
RRULE:FREQ=YEARLY;BYMONTH=3;BYDAY=-1SU
END:DAYLIGHT
BEGIN:STANDARD
TZOFFSETFROM:+0200
TZOFFSETTO:+0100
TZNAME:CET
DTSTART:19701025T030000
RRULE:FREQ=YEARLY;BYMONTH=10;BYDAY=-1SU
END:STANDARD
END:VTIMEZONE
BEGIN:VEVENT
UID:2485226:Event:2130853
DTSTAMP:20260425T025310Z
SUMMARY:Méditation Pleine Conscience : Journée Pleine Conscience pou
 r tous - 14 Juin
DESCRIPTION:JOURNEE MEDITATION PLEINE CONSCIENCE \nPratiques méditati
 ves diversifiées dans l'état d'esprit de la Pleine Conscience.\nDima
 nche 14 JUIN de 10h-17h.\nLa journée évoluera progressivement sur d
 ifférentes pratiques  (assise, marche, mouvements méditatifs, debou
 t, allongé..). Toutes les pratiques sont guidées.\n Vous pourrez d
 écouvrir comment installer et stabiliser un état d'être présent da
 ns l'attention soutenue, selon les postures proposées. \n Ainsi se 
 déploie les qualités d'être dans la Pleine Conscience à chaque mo
 ment de notre vie quotidienne.\nLe groupe est ouvert à toutes personn
 es, débutantes et-ou avancés.\nNous vivrons cette journée majoritai
 rement en silence. Le pic-nique sera pris en silence : une expérience
  riche en ressources.\n Tarifs : 60€ avec réduction et échelonneme
 nt accordés. S'inscrire par mail de préférence pour participer à c
 ette journée. Paris 75003  Contacter Christiane Beaugé, enseignante 
 MBSR Méditation Pleine Conscience - sophrologue et relaxologue,\n\n\
 nPour plus d'information, aller sur https://epanews.fr/events/m-ditati
 on-pleine-conscience-journ-e-pleine-conscience-pour-tou-1
DTSTART;TZID=Europe/Paris:20150614T100000
DTEND;TZID=Europe/Paris:20150614T170000
CATEGORIES:75
LOCATION:Paris 75003
WEBSITE:http://www.pleineconscience75.com
URL:http://www.pleineconscience75.com
CONTACT:06 70 49 32 38 - 01 44 61 74 59
ORGANIZER;CN="Christiane Beaugé":https://epanews.fr/profile/Christian
 eBeauge
ATTACH;FMTTYPE="image/jpeg":http://storage.ning.com/topology/rest/1.0/
 file/get/1663262603?profile=original
ATTENDEE;ROLE=REQ-PARTICIPANT;PARTSTAT=ACCEPTED;RSVP=TRUE;CN="Christia
 ne Beaugé":https://epanews.fr/profile/ChristianeBeauge
END:VEVENT
END:VCALENDAR
