BEGIN:VCALENDAR
PRODID:NingEventWidget-v1
VERSION:2.0
METHOD:PUBLISH
BEGIN:VTIMEZONE
TZID:Europe/Paris
X-LIC-LOCATION:Europe/Paris
BEGIN:DAYLIGHT
TZOFFSETFROM:+0100
TZOFFSETTO:+0200
TZNAME:CEST
DTSTART:19700329T020000
RRULE:FREQ=YEARLY;BYMONTH=3;BYDAY=-1SU
END:DAYLIGHT
BEGIN:STANDARD
TZOFFSETFROM:+0200
TZOFFSETTO:+0100
TZNAME:CET
DTSTART:19701025T030000
RRULE:FREQ=YEARLY;BYMONTH=10;BYDAY=-1SU
END:STANDARD
END:VTIMEZONE
BEGIN:VEVENT
UID:2485226:Event:2742230
DTSTAMP:20260422T030844Z
SUMMARY:Méditation pleine conscience et amitié avec soi
DESCRIPTION:Dimanche 11 juinl de 11h à 13h30  : atelier thématique 
 de Méditation Pleine Conscience : Pleine conscience et Amitié avec
  Soi\nComment vivre l’expérience de la bienveillance avec soi, st
 abilisée progressivement  en Pleine Conscience \nAinsi, en restant 
 centrée sur le corps et la respiration, dans une attitude d'accueil, 
 de présence et de disponibilité, la bienveillance à soi et l'apais
 ement s’établissent progressivement pour atteindre une stabilité.
 \nPratiques méditatives guidées, temps prolongés en silence. Partag
 e des vécus dans le respect. Le thème soutiendra tout au long les pr
 atiques et les guidances de l'atelier.\nInscription par mail svp : es
 pacebeauregard75@yahoo.fr\nTarif : 30€. Réduction et échelonnement
  accordés.\nSe renseigner auprès de Christiane Beaugé - Enseignante
  Méditation Pleine Conscience MBSR - Sophrologue Relaxologue.\n\nPour
  plus d'information, aller sur https://epanews.fr/events/m-ditation-pl
 eine-conscience-et-s-r-nit-int-rieure
DTSTART;TZID=Europe/Paris:20170611T110000
DTEND;TZID=Europe/Paris:20170611T133000
CATEGORIES:75
LOCATION:Paris 75002
WEBSITE:http://www.pleineconscience75.com
URL:http://www.pleineconscience75.com
CONTACT:06 70 49 32 38 - 01 44 61 74 59
ORGANIZER;CN="Christiane Beaugé":https://epanews.fr/profile/Christian
 eBeauge
ATTACH;FMTTYPE="image/jpeg":http://storage.ning.com/topology/rest/1.0/
 file/get/1663592392?profile=original
ATTENDEE;ROLE=REQ-PARTICIPANT;PARTSTAT=ACCEPTED;RSVP=TRUE;CN="Christia
 ne Beaugé":https://epanews.fr/profile/ChristianeBeauge
END:VEVENT
END:VCALENDAR
