BEGIN:VCALENDAR
PRODID:NingEventWidget-v1
VERSION:2.0
METHOD:PUBLISH
BEGIN:VTIMEZONE
TZID:Europe/Paris
X-LIC-LOCATION:Europe/Paris
BEGIN:DAYLIGHT
TZOFFSETFROM:+0100
TZOFFSETTO:+0200
TZNAME:CEST
DTSTART:19700329T020000
RRULE:FREQ=YEARLY;BYMONTH=3;BYDAY=-1SU
END:DAYLIGHT
BEGIN:STANDARD
TZOFFSETFROM:+0200
TZOFFSETTO:+0100
TZNAME:CET
DTSTART:19701025T030000
RRULE:FREQ=YEARLY;BYMONTH=10;BYDAY=-1SU
END:STANDARD
END:VTIMEZONE
BEGIN:VEVENT
UID:2485226:Event:2687838
DTSTAMP:20260421T071616Z
SUMMARY:MÃ©ditation pleine conscience et bienveillance Ã  soi
DESCRIPTION:Samedi 1er Octobre de 16h30 Ã  18h : atelier thÃ©matique d
 e MÃ©ditation Pleine ConscienceÂ : Pleine conscience et Bienveillance 
 Ã  Soi\nCommentÂ vivre lâ€™expÃ©rience de la Bienveillance Ã  Soi, sta
 bilisÃ©e progressivementÂ  en Pleine ConscienceÂ \nAinsi, en restant c
 entrÃ©e sur le corps et la respiration, dans une attitude dâ€™ouvertur
 e et de disponibilitÃ©, la bienveillance Ã  soiÂ sâ€™Ã©tablit progress
 ivement pour atteindre une stabilitÃ©.\nPratiques mÃ©ditatives guidÃ©e
 s, temps prolongÃ©s en silence. Partage des vÃ©cus dans le respect. Le
  thÃ¨me soutiendra tout au long les pratiques et les guidances de l'at
 elier.\nInscription par mail svp :Â espacebeauregard75@yahoo.fr\nTarif
  : 30â‚¬. RÃ©duction et Ã©chelonnement accordÃ©s.\nSe renseigner auprÃ
 ¨s de Christiane BeaugÃ© - Enseignante MÃ©ditation Pleine Conscience M
 BSR - Sophrologue Relaxologue.\n\nPour plus d'information, aller sur h
 ttps://epanews.fr/events/m-ditation-pleine-conscience-et-bienveillance
 -soi
DTSTART;TZID=Europe/Paris:20161001T160000
DTEND;TZID=Europe/Paris:20161001T183000
CATEGORIES:75
LOCATION:Paris 75002
WEBSITE:http://www.pleineconscience75.com
URL:http://www.pleineconscience75.com
CONTACT:06 70 49 32 38 - 01 44 61 74 59
ORGANIZER;CN="Christiane BeaugÃ©":https://epanews.fr/profile/Christian
 eBeauge
ATTACH;FMTTYPE="image/jpeg":http://storage.ning.com/topology/rest/1.0/
 file/get/1663592392?profile=original
ATTENDEE;ROLE=REQ-PARTICIPANT;PARTSTAT=ACCEPTED;RSVP=TRUE;CN="Christia
 ne BeaugÃ©":https://epanews.fr/profile/ChristianeBeauge
END:VEVENT
END:VCALENDAR
