BEGIN:VCALENDAR
PRODID:NingEventWidget-v1
VERSION:2.0
METHOD:PUBLISH
BEGIN:VTIMEZONE
TZID:Europe/Paris
X-LIC-LOCATION:Europe/Paris
BEGIN:DAYLIGHT
TZOFFSETFROM:+0100
TZOFFSETTO:+0200
TZNAME:CEST
DTSTART:19700329T020000
RRULE:FREQ=YEARLY;BYMONTH=3;BYDAY=-1SU
END:DAYLIGHT
BEGIN:STANDARD
TZOFFSETFROM:+0200
TZOFFSETTO:+0100
TZNAME:CET
DTSTART:19701025T030000
RRULE:FREQ=YEARLY;BYMONTH=10;BYDAY=-1SU
END:STANDARD
END:VTIMEZONE
BEGIN:VEVENT
UID:2485226:Event:2130570
DTSTAMP:20260423T102245Z
SUMMARY:Cycle Intensif de MÃ©ditation Pleine Conscience : Octobre 10h-
 13h
DESCRIPTION:Comment dÃ©couvrir et/ou maintenir une pratique mÃ©ditativ
 e â€¨de Pleine Conscience, de maniÃ¨re soutenue et intensiveâ€¨. Cycle
  intensif de 3 heures sur 5 jours du 19 au 23 OCTOBRE de 10h Ã  13h da
 ns le 75002.   Les personnes qui viennent dÃ©couvrir trouveront une in
 troduction des bases de la pratique de la MÃ©ditation Pleine Conscienc
 e.  Les personnes dÃ©jÃ  pratiquantes, trouveront lÃ  une occasion dâ€
 ™un approfondissement en groupe, sur plusieurs jours, en continu.   En
  vous engageant sur la totalitÃ© du cycle, vous pourrez vivre ce temps
  en continu de mÃ©ditation comme une initiation Ã  une mini-retraite, 
 une maniÃ¨re de rester connecter de jours en jours avec la pratique et
  lâ€™Ã©tat dâ€™espritÂ : lâ€™occasion dâ€™acquÃ©rir ou de revisiter le
 s Â«outilsÂ» pour faire que lâ€™expÃ©rience sâ€™incarne concrÃ¨tement 
 dans les activitÃ©s de la vie quotidienne.\nTarifs dÃ©gressifs selon f
 orfaits de 15â‚¬ Ã  11â‚¬ de l'heure.\nInscription sur la totalitÃ© du
  cycle ou ponctuelle sur le nombre de matinÃ©e possible selon votre di
 sponibilitÃ©.\nInscription par mail SVP. christianebeauge@gmail.com\nS
 e renseigner auprÃ¨s de Christiane BeaugÃ© - Enseignante MÃ©ditation P
 leine Conscience MBSR - Sophrologue Relaxologue.\n\nPour plus d'inform
 ation, aller sur https://epanews.fr/events/m-ditation-pleine-conscienc
 e-cycle-intensif-avril-3h-1-semaine
DTSTART;TZID=Europe/Paris:20151019T100000
DTEND;TZID=Europe/Paris:20151023T130000
CATEGORIES:75
LOCATION:Paris 75002
WEBSITE:http://www.pleineconscience75.com
URL:http://www.pleineconscience75.com
CONTACT:06 70 49 32 38 - 01 44 61 74 59
ORGANIZER;CN="Christiane BeaugÃ©":https://epanews.fr/profile/Christian
 eBeauge
ATTACH;FMTTYPE="image/jpeg":http://storage.ning.com/topology/rest/1.0/
 file/get/1663002438?profile=original
ATTENDEE;ROLE=REQ-PARTICIPANT;PARTSTAT=ACCEPTED;RSVP=TRUE;CN="Christia
 ne BeaugÃ©":https://epanews.fr/profile/ChristianeBeauge
END:VEVENT
END:VCALENDAR
