BEGIN:VCALENDAR
PRODID:NingEventWidget-v1
VERSION:2.0
METHOD:PUBLISH
BEGIN:VTIMEZONE
TZID:Europe/Paris
X-LIC-LOCATION:Europe/Paris
BEGIN:DAYLIGHT
TZOFFSETFROM:+0100
TZOFFSETTO:+0200
TZNAME:CEST
DTSTART:19700329T020000
RRULE:FREQ=YEARLY;BYMONTH=3;BYDAY=-1SU
END:DAYLIGHT
BEGIN:STANDARD
TZOFFSETFROM:+0200
TZOFFSETTO:+0100
TZNAME:CET
DTSTART:19701025T030000
RRULE:FREQ=YEARLY;BYMONTH=10;BYDAY=-1SU
END:STANDARD
END:VTIMEZONE
BEGIN:VEVENT
UID:2485226:Event:2491309
DTSTAMP:20260421T064507Z
SUMMARY:MÃ©ditation par la voix Arigato Zen
DESCRIPTION:Restaurer l'Ã©quilibre entre le corps et l'espritÂ par lâ€
 ™effet des vibrations de la VoixÂ et par la maÃ®trise dâ€™une respirat
 ion juste.\nÂ ARIGATÃ• ZEN est une mÃ©thode de mÃ©ditation par la Voix
  dÃ©veloppÃ©e au Japon par Soho Machida (moine Bouddhiste Zen, Docteur
  en Philosophie).\nLes bienfaits de la mÃ©ditation par la Voix ARIGATÃ
 • ZEN sont :\n\nMaÃ®trise de la respiration et de la voix,\nPrise de c
 onscience du lien corps-esprit,\nBien-Ãªtre intÃ©rieur, positivitÃ©,\n
 Gestion du quotidien et du stress.\n\nAssis sur une chaise ou un couss
 in, la mÃ©ditation ARIGATÃ• ZEN est simple et ouverte Ã  tous.\nÂ Tari
 f :Â accÃ¨s libre aux adhÃ©rents AZ Bordeaux (100â‚¬/an pour 10 sÃ©anc
 es),\n\n\n\n15â‚¬ pour les non adhÃ©rents.\nVenir en tenue confortable
 , avec un coussin, tapis de yoga, couverture, etc...\nSÃ©ance animÃ©e 
 par Yoko et Olivier de Lataillade\nPour tout renseignement : sohozen.f
 r@gmail.com ou 06 23 87 31 86\nEn savoir plus :Â http://www.arigatozen
 .eu\n\n\n\n\nPour plus d'information, aller sur https://epanews.fr/eve
 nts/m-ditation-par-la-voix-arigato-zen-2
DTSTART;TZID=Europe/Paris:20151208T193000
DTEND;TZID=Europe/Paris:20151208T210000
CATEGORIES:33
LOCATION:Centre Quintessence
WEBSITE:http://www.centre-quintessence.com/accueil/le-centre/
URL:http://www.centre-quintessence.com/accueil/le-centre/
CONTACT:O6 23 87 31 86
ORGANIZER;CN=Oriibu:https://epanews.fr/profile/Oriibu
ATTACH;FMTTYPE="image/jpeg":http://storage.ning.com/topology/rest/1.0/
 file/get/1663490539?profile=original
ATTENDEE;ROLE=REQ-PARTICIPANT;PARTSTAT=ACCEPTED;RSVP=TRUE;CN=Oriibu:ht
 tps://epanews.fr/profile/Oriibu
END:VEVENT
END:VCALENDAR
