BEGIN:VCALENDAR
PRODID:NingEventWidget-v1
VERSION:2.0
METHOD:PUBLISH
BEGIN:VTIMEZONE
TZID:Europe/Paris
X-LIC-LOCATION:Europe/Paris
BEGIN:DAYLIGHT
TZOFFSETFROM:+0100
TZOFFSETTO:+0200
TZNAME:CEST
DTSTART:19700329T020000
RRULE:FREQ=YEARLY;BYMONTH=3;BYDAY=-1SU
END:DAYLIGHT
BEGIN:STANDARD
TZOFFSETFROM:+0200
TZOFFSETTO:+0100
TZNAME:CET
DTSTART:19701025T030000
RRULE:FREQ=YEARLY;BYMONTH=10;BYDAY=-1SU
END:STANDARD
END:VTIMEZONE
BEGIN:VEVENT
UID:2485226:Event:1603159
DTSTAMP:20260423T045525Z
SUMMARY:méditation mondiale pour votre guérison et celle de l'humani
 té
DESCRIPTION:Caroline guidera une méditation mondiale dont le but prin
 cipal est d’offrir une profonde guérison à tous. Dans cette séanc
 e, vous pourrez travailler sur un problème physique ou émotionnel qu
 e vous avez, sur le problème d’une autre personne ou encore tout si
 mplement sur l’humanité dans son ensemble. La guérison se fera sur
  tous les plans et vous aidera à laisser aller les vieux schémas de 
 comportement et les blocages émotionnels afin de faciliter et d’acc
 élérer votre éveil à votre essence divine véritable. Cette séanc
 e est gratuite, alors n’hésitez pas à inviter vos amis. Pour parti
 ciper, cliquez sur ce lien : https://www4.gotomeeting.com/register/40
 0564263\n\nPour plus d'information, aller sur https://epanews.fr/event
 s/m-ditation-mondiale-pour-votre-gu-rison-et-celle-de-l-humanit
DTSTART;TZID=Europe/Paris:20131114T200000
DTEND;TZID=Europe/Paris:20131114T220000
CATEGORIES:tous
LOCATION:international
WEBSITE:https://www4.gotomeeting.com/register/400564263
URL:https://www4.gotomeeting.com/register/400564263
CONTACT:
ORGANIZER;CN=OmniumUniverse:https://epanews.fr/profile/OmniumUniverse
ATTACH;FMTTYPE="image/jpeg":http://storage.ning.com/topology/rest/1.0/
 file/get/1662958798?profile=original
ATTENDEE;ROLE=REQ-PARTICIPANT;PARTSTAT=ACCEPTED;RSVP=TRUE;CN="Nouvelle
  Réalité":https://epanews.fr/profile/NouvelleRealite
ATTENDEE;ROLE=REQ-PARTICIPANT;PARTSTAT=ACCEPTED;RSVP=TRUE;CN=OmniumUni
 verse:https://epanews.fr/profile/OmniumUniverse
END:VEVENT
END:VCALENDAR
