BEGIN:VCALENDAR
PRODID:NingEventWidget-v1
VERSION:2.0
METHOD:PUBLISH
BEGIN:VTIMEZONE
TZID:Europe/Paris
X-LIC-LOCATION:Europe/Paris
BEGIN:DAYLIGHT
TZOFFSETFROM:+0100
TZOFFSETTO:+0200
TZNAME:CEST
DTSTART:19700329T020000
RRULE:FREQ=YEARLY;BYMONTH=3;BYDAY=-1SU
END:DAYLIGHT
BEGIN:STANDARD
TZOFFSETFROM:+0200
TZOFFSETTO:+0100
TZNAME:CET
DTSTART:19701025T030000
RRULE:FREQ=YEARLY;BYMONTH=10;BYDAY=-1SU
END:STANDARD
END:VTIMEZONE
BEGIN:VEVENT
UID:2485226:Event:1109066
DTSTAMP:20260421T155632Z
SUMMARY:Méditation \"  Messages de cette Nouvelle Année,transmis par
  l'Amour et la Grâce des Maitres, des Guides et des Anges \"
DESCRIPTION: Une des missions d'Ame de Nadine-Sarah étant de retrans
 mettre les  messages, elle vous propose à nouveau avec humilité et
  gratitude d'accueillir ce que les Maitres, Guides  et Anges ont à 
  nous offrir collectivement et individuellement en ce début  d'anné
 e.\nTarif :20€/17€ pour adhérents à l’Association « L’Appre
 nti-Sage »\n\nPour plus d'information, aller sur https://epanews.fr/e
 vents/m-ditation-messages-de-cette-nouvelle-ann-e-transmis-par-l-amour
DTSTART;TZID=Europe/Paris:20130116T203000
DTEND;TZID=Europe/Paris:20130116T220000
CATEGORIES:13
LOCATION:A proximité de l’Espace Julien et du parking du Cours Juli
 en
WEBSITE:
URL:
CONTACT:Edwige au 06 20 66 77 62
ORGANIZER;CN="Franck et Nadine Sarah Aubert":https://epanews.fr/profil
 e/FranckAUBERT
ATTACH;FMTTYPE="image/jpeg":http://storage.ning.com/topology/rest/1.0/
 file/get/1662734991?profile=original
ATTENDEE;ROLE=REQ-PARTICIPANT;PARTSTAT=ACCEPTED;RSVP=TRUE;CN="Franck e
 t Nadine Sarah Aubert":https://epanews.fr/profile/FranckAUBERT
END:VEVENT
END:VCALENDAR
