BEGIN:VCALENDAR
PRODID:NingEventWidget-v1
VERSION:2.0
METHOD:PUBLISH
BEGIN:VTIMEZONE
TZID:Europe/Paris
X-LIC-LOCATION:Europe/Paris
BEGIN:DAYLIGHT
TZOFFSETFROM:+0100
TZOFFSETTO:+0200
TZNAME:CEST
DTSTART:19700329T020000
RRULE:FREQ=YEARLY;BYMONTH=3;BYDAY=-1SU
END:DAYLIGHT
BEGIN:STANDARD
TZOFFSETFROM:+0200
TZOFFSETTO:+0100
TZNAME:CET
DTSTART:19701025T030000
RRULE:FREQ=YEARLY;BYMONTH=10;BYDAY=-1SU
END:STANDARD
END:VTIMEZONE
BEGIN:VEVENT
UID:2485226:Event:1375213
DTSTAMP:20260422T041052Z
SUMMARY:méditation à la Pleine Lune
DESCRIPTION:Grande méditation de la Pleine Lune du samedi 25mai 2013 
 à 21h Le lieu : La colline du Rove , Pour honorer la déesse lunaire 
 en nous; ce rv est destiné à fêter et retrouver notre féminité sa
 crée ; Pour cela , je fais appel à toutes les belles sorciéres du s
 ud à se déplacer . A cette occasion , instruments de musiques , tamb
 ours , maracas, guitare...etc seront les bienvenus , nous porterons un
  plat ou une boisson que l'on partagera ; Cette sortie est gratuite\n\
 nPour plus d'information, aller sur https://epanews.fr/events/m-ditati
 on-la-pleine-lune-3
DTSTART;TZID=Europe/Paris:20130625T210000
DTEND;TZID=Europe/Paris:20130625T223000
CATEGORIES:13740
LOCATION:LE ROVE
WEBSITE:
URL:
CONTACT:0681289682
ORGANIZER;CN=tallulah:https://epanews.fr/profile/NEPHEBETH
ATTACH;FMTTYPE="image/jpeg":http://storage.ning.com/topology/rest/1.0/
 file/get/1662841551?profile=original
ATTENDEE;ROLE=REQ-PARTICIPANT;PARTSTAT=ACCEPTED;RSVP=TRUE;CN=tallulah:
 https://epanews.fr/profile/NEPHEBETH
END:VEVENT
END:VCALENDAR
