BEGIN:VCALENDAR
PRODID:NingEventWidget-v1
VERSION:2.0
METHOD:PUBLISH
BEGIN:VTIMEZONE
TZID:Europe/Paris
X-LIC-LOCATION:Europe/Paris
BEGIN:DAYLIGHT
TZOFFSETFROM:+0100
TZOFFSETTO:+0200
TZNAME:CEST
DTSTART:19700329T020000
RRULE:FREQ=YEARLY;BYMONTH=3;BYDAY=-1SU
END:DAYLIGHT
BEGIN:STANDARD
TZOFFSETFROM:+0200
TZOFFSETTO:+0100
TZNAME:CET
DTSTART:19701025T030000
RRULE:FREQ=YEARLY;BYMONTH=10;BYDAY=-1SU
END:STANDARD
END:VTIMEZONE
BEGIN:VEVENT
UID:2485226:Event:790673
DTSTAMP:20260422T023147Z
SUMMARY:Méditation internationale:\"La paix n'est pas une utopie\"
DESCRIPTION:Méditation internationale\nLa paix n'est pas une utopie c
 ’est une réalité qui se construit et prend racine au cœur de l’
 être\nLe troisième dimanche de chaque mois de 18h30 à 19h30, une ex
 périence de méditation collective vous est proposée pour offrir au 
 monde, par nos pensées, un peu de la paix dont il a tant besoin.\nLa 
 méditation internationale est née en 1978 et rassemble aujourd'hui
  plus d'un million de personnes dans 120 pays différents.\nVous êtes
  les bienvenus pour participer à cette heure de paix et de silence.\n
 (sur inscription uniquement)\n01 45 74 37 17 - 11, rue Villaret de Joy
 euse\nParis 17è\n\nPour plus d'information, aller sur https://epanews
 .fr/events/m-ditation-internationale-la-paix-n-est-pas-une-utopie
DTSTART;TZID=Europe/Paris:20120520T193000
DTEND;TZID=Europe/Paris:20120520T203000
CATEGORIES:17
LOCATION:Paris 17ème
WEBSITE:http://fr.mappy.com/map#d=11,+rue+Villaret+de+Joyeuse,+75017,+
 Paris,+Ile-de-France,+France
URL:http://fr.mappy.com/map#d=11,+rue+Villaret+de+Joyeuse,+75017,+Pari
 s,+Ile-de-France,+France
CONTACT:01 45 74 37 17
ORGANIZER:Centre de Raja-Yoga & méditation
ATTACH;FMTTYPE="image/jpeg":http://storage.ning.com/topology/rest/1.0/
 file/get/1662600653?profile=original
ATTENDEE;ROLE=REQ-PARTICIPANT;PARTSTAT=ACCEPTED;RSVP=TRUE;CN="Nicolas 
 Crettex":https://epanews.fr/profile/NicolasCrettex
END:VEVENT
END:VCALENDAR
