BEGIN:VCALENDAR
PRODID:NingEventWidget-v1
VERSION:2.0
METHOD:PUBLISH
BEGIN:VTIMEZONE
TZID:Europe/Paris
X-LIC-LOCATION:Europe/Paris
BEGIN:DAYLIGHT
TZOFFSETFROM:+0100
TZOFFSETTO:+0200
TZNAME:CEST
DTSTART:19700329T020000
RRULE:FREQ=YEARLY;BYMONTH=3;BYDAY=-1SU
END:DAYLIGHT
BEGIN:STANDARD
TZOFFSETFROM:+0200
TZOFFSETTO:+0100
TZNAME:CET
DTSTART:19701025T030000
RRULE:FREQ=YEARLY;BYMONTH=10;BYDAY=-1SU
END:STANDARD
END:VTIMEZONE
BEGIN:VEVENT
UID:2485226:Event:2920394
DTSTAMP:20260420T110157Z
SUMMARY:MÃ©ditation guidÃ©e
DESCRIPTION:MÃ©ditation guidÃ©e\nLe 24 Janvier 2018 Ã  20h\nOrganisÃ©e
  par AndrÃ© et FrÃ©dÃ©rique Morel\nÂ En cette annÃ©e qui commence, il 
 y a peut-Ãªtre des questions que nous nous posons sur notre devenir.\n
 Bien souvent, les rÃ©ponses se trouvent en nous. En mÃ©ditant, nous so
 mmes dans le calme et une paix intÃ©rieure sâ€™installe.\nDurant cette
  soirÃ©e, une pratique mÃ©ditative vous sera enseignÃ©e pour vous guid
 er vers ce calme. Alors, dans cette paix intÃ©rieure, nous pourrons mÃ
 ©diter pour ouvrir des portes sur les chemins Ã  prendre ou Ã  expÃ©ri
 menter.\nÂ Le but de ces soirÃ©es est de permettre Ã  chacun de dÃ©cou
 vrir le juste milieu pour avancer sereinement et percevoir peut-Ãªtre 
 des rÃ©ponses qui correspondent Ã  ses interrogations.\nNâ€™oublions p
 as que mÃ©diter en groupe donne une force et une Ã©nergie Ã  chaque pa
 rticipant.\nNous espÃ©rons donc vous voir nombreux pour fÃªter et mÃ©d
 iter que cette annÃ©e 2018 qui sâ€™ouvre Ã  nous.\nÂ \nÂ DateÂ : Mercr
 edi 24 janvier 2018 Ã  20h\nLieuÂ : Centre Quintessence 16 Cours du GÃ
 ©nÃ©ral de Gaulle\nParc d'ActivitiÃ©s Favard - EntrÃ©e 2\n33170 Gradig
 nan\nParticipation pour frais de la salleÂ : 3â‚¬ (prÃ©voir lâ€™appoin
 t)\nÂ \nMerci de respecter lâ€™horaire car il sera impossible de rentr
 er une fois que la mÃ©ditation aura commencÃ©.\n\nPour plus d'informat
 ion, aller sur https://epanews.fr/events/m-ditation-guid-e-6
DTSTART;TZID=Europe/Paris:20180124T200000
DTEND;TZID=Europe/Paris:20180124T210000
CATEGORIES:33
LOCATION:Gradignan
WEBSITE:
URL:
CONTACT:0698823540
ORGANIZER;CN=Jitendra:https://epanews.fr/profile/Jitendra
ATTACH;FMTTYPE="image/jpeg":
ATTENDEE;ROLE=REQ-PARTICIPANT;PARTSTAT=ACCEPTED;RSVP=TRUE;CN=Jitendra:
 https://epanews.fr/profile/Jitendra
END:VEVENT
END:VCALENDAR
