BEGIN:VCALENDAR
PRODID:NingEventWidget-v1
VERSION:2.0
METHOD:PUBLISH
BEGIN:VTIMEZONE
TZID:Europe/Paris
X-LIC-LOCATION:Europe/Paris
BEGIN:DAYLIGHT
TZOFFSETFROM:+0100
TZOFFSETTO:+0200
TZNAME:CEST
DTSTART:19700329T020000
RRULE:FREQ=YEARLY;BYMONTH=3;BYDAY=-1SU
END:DAYLIGHT
BEGIN:STANDARD
TZOFFSETFROM:+0200
TZOFFSETTO:+0100
TZNAME:CET
DTSTART:19701025T030000
RRULE:FREQ=YEARLY;BYMONTH=10;BYDAY=-1SU
END:STANDARD
END:VTIMEZONE
BEGIN:VEVENT
UID:2485226:Event:690688
DTSTAMP:20260422T060514Z
SUMMARY:mÃ©ditation gartuite
DESCRIPTION:iL S'AGIT D'UNE PRISE DE CONNAISSANCEÂ Â D'UNE TECHNIQUE D
 E MEDITATION / LA MEDITATION VIPASSANA/ TRAVAIL SUR LA RESPIRATION, OB
 SERVATION DU MENTAL ET DES PENSEES\nÂ Comment installer durablement le
  bonheur dans notre vie? A peine lÃ , dÃ©jÃ  parti, il semble que nous
  dÃ©pensions une Ã©nergie colossale Ã  tenter de le maintenir dans not
 re existence.La plupart d'entre nous avons des vies trÃ¨s satisfaisant
 es Ã  tout point de vue, mais si nous pouvons nous sentir satisfaits g
 lobalement, nous ne nous sentons pas heureux pour autant.\nÂ Â Et si n
 ous ne cherchions pas au bon endroit?\nÂ Comme beaucoup l'ont dÃ©jÃ  c
 ompris ou expÃ©rimentÃ©, le bonheur profond est bel et bien un Ã©tat d
 'Ãªtre intÃ©rieur.\nÂ Nous avons tous accÃ¨s Ã  cet Ã©tat de paix, Ã  
 condition de savoir le trouver , le travailler , le recrÃ©er.\nCela n'
 est possible qu'en tournant le regard vers l'intÃ©rieur , afin de \"dÃ
 ©brancher\" le mental, semeur de trouble et de confusion, et d'avoir a
 insi accÃ¨s Ã  + de paix, de joie, d'Amour et de sÃ©rÃ©nitÃ©.\nÂ Ce qu
 e je souhaiterais proposer au travers de cette sortie, , c'est tout d'
 abord un dÃ©bat autour de la thÃ©matique du bonheur, ou chacun pourra 
 s'exprimer et tenter de formuler la raison de sa prÃ©sence, sa recherc
 he personnelle etc...\nÂ Dans un second temps, j'aurai Ã  coeur de vou
 s faire partager mon expÃ©rience de la mÃ©ditation, que je pratique qu
 otidiennement depuis plusieurs annÃ©es.Â Je ne suis inscrit dans aucun
  mouvement religieux, mais la mÃ©ditation que je pratique et proposera
 i de vous faire partager est dans laÂ  tradition du Bouddhisme tibÃ©ta
 in.Il s'agit d'une mÃ©ditation trÃ¨s simple ayant comme support princi
 pal la respiration et qui se pratique les yeux ouverts ( mÃ©ditation d
 u Lion ).\nNi enseignant , ni maitre spirituel, je n'ai d'autre object
 if que de vous interesser Ã  cette quete intÃ©rieure et de vous dÃ©mon
 trer que le bonheur n'est peut etre pas si loin qu'il n'y parait...\nÂ
  Cette mÃ©ditation est extrÃ¨mement simple, portative ( c'est importan
 t!!!), et amÃ¨ne au lÃ¢cher prise en devenant progressivement le spect
 ateur de nous mÃªme, de toutes nos pensÃ©es et Ã©motions qui y sont im
 manquablement rattachÃ©es.\nCette sortie est Ã©galement sur le Â site 
 OVS toulon.\nL'appartement se situe sur la plage du pin de galle: tÃ©l
 Ã©phonez une fois en bas sur la plage!\nÂ \n\nPour plus d'information,
  aller sur https://epanews.fr/events/m-ditation-gartuite
DTSTART;TZID=Europe/Paris:20120219T133000
DTEND;TZID=Europe/Paris:20120219T170000
CATEGORIES:83
LOCATION:toulon
WEBSITE:http://fr.mappy.com/#d=le+pin+de+galle+83220+le+pradet&p=map
URL:http://fr.mappy.com/#d=le+pin+de+galle+83220+le+pradet&p=map
CONTACT:06.72.00.38.54
ORGANIZER:arno
ATTACH;FMTTYPE="image/jpeg":
ATTENDEE;ROLE=REQ-PARTICIPANT;PARTSTAT=ACCEPTED;RSVP=TRUE;CN=defaye:ht
 tps://epanews.fr/profile/defaye
END:VEVENT
END:VCALENDAR
