BEGIN:VCALENDAR
PRODID:NingEventWidget-v1
VERSION:2.0
METHOD:PUBLISH
BEGIN:VTIMEZONE
TZID:Europe/Paris
X-LIC-LOCATION:Europe/Paris
BEGIN:DAYLIGHT
TZOFFSETFROM:+0100
TZOFFSETTO:+0200
TZNAME:CEST
DTSTART:19700329T020000
RRULE:FREQ=YEARLY;BYMONTH=3;BYDAY=-1SU
END:DAYLIGHT
BEGIN:STANDARD
TZOFFSETFROM:+0200
TZOFFSETTO:+0100
TZNAME:CET
DTSTART:19701025T030000
RRULE:FREQ=YEARLY;BYMONTH=10;BYDAY=-1SU
END:STANDARD
END:VTIMEZONE
BEGIN:VEVENT
UID:2485226:Event:1148667
DTSTAMP:20260421T203024Z
SUMMARY:méditation et partage a terre d'éveil
DESCRIPTION:méditation assise marche et partage a terre d'éveil de 1
 9h30 a 21h30 à Grasse('06) ce week end\n\nPour plus d'information, al
 ler sur https://epanews.fr/events/m-ditation-et-partage-a-terre-d-veil
DTSTART;TZID=Europe/Paris:20130210T193000
DTEND;TZID=Europe/Paris:20130210T213000
CATEGORIES:06
LOCATION:Grasse mouans sartoux
WEBSITE:http://terre-d-eveil-riviera.fr/index.php
URL:http://terre-d-eveil-riviera.fr/index.php
CONTACT:0662581900
ORGANIZER;CN=Pierrô:https://epanews.fr/profile/vigneronpierre
ATTACH;FMTTYPE="image/jpeg":
ATTENDEE;ROLE=REQ-PARTICIPANT;PARTSTAT=ACCEPTED;RSVP=TRUE;CN=Pierrô:h
 ttps://epanews.fr/profile/vigneronpierre
END:VEVENT
END:VCALENDAR
