BEGIN:VCALENDAR
PRODID:NingEventWidget-v1
VERSION:2.0
METHOD:PUBLISH
BEGIN:VTIMEZONE
TZID:Europe/Paris
X-LIC-LOCATION:Europe/Paris
BEGIN:DAYLIGHT
TZOFFSETFROM:+0100
TZOFFSETTO:+0200
TZNAME:CEST
DTSTART:19700329T020000
RRULE:FREQ=YEARLY;BYMONTH=3;BYDAY=-1SU
END:DAYLIGHT
BEGIN:STANDARD
TZOFFSETFROM:+0200
TZOFFSETTO:+0100
TZNAME:CET
DTSTART:19701025T030000
RRULE:FREQ=YEARLY;BYMONTH=10;BYDAY=-1SU
END:STANDARD
END:VTIMEZONE
BEGIN:VEVENT
UID:2485226:Event:1155374
DTSTAMP:20260420T134306Z
SUMMARY:Méditation et enseignements bouddhistes tibétains par Samten
  Yeshe Rinpoché
DESCRIPTION:Une opportunité rare de recevoir des enseignements authen
 tiques et directs sur la pratique de la méditation bouddhiste par Sam
 ten Yeshe Rinpoché.\nNé au Tibet, Samten Yeshe Rinpoché a accompli 
 16 années d’études au sein du Monastère de Menri et a obtenu le d
 iplôme d’enseignement supérieur de Docteur en Philosophie Bouddhis
 te Bön en 2010. Après avoir enseigné et professé au Tibet et en In
 de, il voyage aujourd’hui en Europe afin d’offrir ses enseignement
 s sur la philosophie, la méditation bouddhistes ainsi que des consult
 ations en astrologie tibétaine notamment.\nTous les vendredis de 9h15
  à 11h15, Métro NATION au Centre \"Le Fil du Corps\" \", 6 Passage T
 urquetil.\nParticipation aux frais : 10 euros minimum\nRenseignements/
 inscriptions: contacter Arianne au 06 07 18 25 83 ou arianeclement@gma
 il.com\n\nPour plus d'information, aller sur https://epanews.fr/events
 /m-ditation-et-enseignements-bouddhistes-tib-tains-par-samten
DTSTART;TZID=Europe/Paris:20130215T093000
DTEND;TZID=Europe/Paris:20130215T113000
CATEGORIES:75
LOCATION:Fil du Corps à Nation
WEBSITE:http://www.samtenyesherinpoche.fr
URL:http://www.samtenyesherinpoche.fr
CONTACT:0610473982
ORGANIZER;CN="judith soussans":https://epanews.fr/profile/judithsoussa
 ns
ATTACH;FMTTYPE="image/jpeg":http://storage.ning.com/topology/rest/1.0/
 file/get/1662756101?profile=original
ATTENDEE;ROLE=REQ-PARTICIPANT;PARTSTAT=ACCEPTED;RSVP=TRUE;CN="judith s
 oussans":https://epanews.fr/profile/judithsoussans
END:VEVENT
END:VCALENDAR
