BEGIN:VCALENDAR
PRODID:NingEventWidget-v1
VERSION:2.0
METHOD:PUBLISH
BEGIN:VTIMEZONE
TZID:Europe/Paris
X-LIC-LOCATION:Europe/Paris
BEGIN:DAYLIGHT
TZOFFSETFROM:+0100
TZOFFSETTO:+0200
TZNAME:CEST
DTSTART:19700329T020000
RRULE:FREQ=YEARLY;BYMONTH=3;BYDAY=-1SU
END:DAYLIGHT
BEGIN:STANDARD
TZOFFSETFROM:+0200
TZOFFSETTO:+0100
TZNAME:CET
DTSTART:19701025T030000
RRULE:FREQ=YEARLY;BYMONTH=10;BYDAY=-1SU
END:STANDARD
END:VTIMEZONE
BEGIN:VEVENT
UID:2485226:Event:2434259
DTSTAMP:20260423T161613Z
SUMMARY:Méditation Emotions 1: Le circuit positif de l'émotion
DESCRIPTION:Atelier de 19H30 à 20H30Méditations guidées collectives
  et tous niveauxPour découvrir et expérimenter sa réceptivité.pour
  élargir sa compréhension du monde.Comprendre le rôle, le fonctionn
 ement des émotions et ce à quoi elles nous invitent, pour gagner en 
 maîtrise de soi.Accompagner ses émotions, se laisser traverser, ne p
 as faire obstruction et grandir à travers elles.Prochaines dates:- 5/
 11, Emotions 2; transformer les peurs et l'adversité en opportunités
  - 19/11: comment accepter sa part d'ombre ?, - 3/12: Développer la
  cnfiance en soi, en la vie- 17/12: Foi, confiance: jusqu'où puis-je,
 m'aider ? 7/01/16, 14/01, 28/01, 11/02, 25/02, 10/03, 24/03Inscriptio
 ns obligatoire sur sophie@ombienetre.fr ou au 0662639817www.ombienetre
 .frTarifs: 15 € - Découverte : 10 €- 10 séances sur 6 mois maxi:
  135 €Nombre limité de places\n\nPour plus d'information, aller sur
  https://epanews.fr/events/m-ditation-emotions-1-le-circuit-positif-de
 -l-motion
DTSTART;TZID=Europe/Paris:20151022T193000
DTEND;TZID=Europe/Paris:20151022T203000
CATEGORIES:69100
LOCATION:Espace Bien-Être & Conscience 69100
WEBSITE:
URL:
CONTACT:
ORGANIZER;CN="Sophie Bertrand":https://epanews.fr/profile/SophieBertra
 nd
ATTACH;FMTTYPE="image/jpeg":
ATTENDEE;ROLE=REQ-PARTICIPANT;PARTSTAT=ACCEPTED;RSVP=TRUE;CN="Sophie B
 ertrand":https://epanews.fr/profile/SophieBertrand
END:VEVENT
END:VCALENDAR
