BEGIN:VCALENDAR
PRODID:NingEventWidget-v1
VERSION:2.0
METHOD:PUBLISH
BEGIN:VTIMEZONE
TZID:Europe/Paris
X-LIC-LOCATION:Europe/Paris
BEGIN:DAYLIGHT
TZOFFSETFROM:+0100
TZOFFSETTO:+0200
TZNAME:CEST
DTSTART:19700329T020000
RRULE:FREQ=YEARLY;BYMONTH=3;BYDAY=-1SU
END:DAYLIGHT
BEGIN:STANDARD
TZOFFSETFROM:+0200
TZOFFSETTO:+0100
TZNAME:CET
DTSTART:19701025T030000
RRULE:FREQ=YEARLY;BYMONTH=10;BYDAY=-1SU
END:STANDARD
END:VTIMEZONE
BEGIN:VEVENT
UID:2485226:Event:1773869
DTSTAMP:20260421T215322Z
SUMMARY:Voyage de méditation de Pleine Conscience en Jordanie
DESCRIPTION:Méditation de pleine conscience en Jordanie  Petra / Wad
 i Rum du 26/4 au 3/5/14 : Le voyage de Méditation de Pleine Conscien
 ce est proposé par Elisabeth Couzon, psychologue, psychothérapeute, 
 formatrice en développement personnel, conférencière, et praticienn
 e en Méditation de Pleine Conscience. Elle est l’auteure de La Méd
 itation de Pleine Conscience pas à pas (ESF).\nLa Jordanie et son dé
 sert du Wadi Rum vous offre le silence, la lumière, des paysages d’
 une splendeur et d’une beauté imposante. Il est une invitation à r
 entrer en intimité avec soi-même, à accueillir l’instant présent
 , ce qui s’offre en nous et autour de nous comme un cadeau. C’est 
 l’occasion de vous initier à la Méditation de Pleine Conscience ou
  de poursuivre sa pratique, porté par la beauté et la vastitude du d
 ésert.\nDépart de Paris le 26/4, retour le 3/5. Programme détaillé
  sur le site : www.voyages-interieurs.com.\n\n\nPour plus d'informati
 on, aller sur https://epanews.fr/events/m-ditation-de-pleine-conscienc
 e-dans-le-d-sert-de-jordanie
DTSTART;TZID=Europe/Paris:20140426T023000
DTEND;TZID=Europe/Paris:20140503T230000
CATEGORIES:tous
LOCATION:Jordanie Petra Désert du Wadi Rum
WEBSITE:http://www.voyages-interieurs.com
URL:http://www.voyages-interieurs.com
CONTACT:+33 (0)5 57 97 30 82
ORGANIZER;CN="E. Couzon":https://epanews.fr/profile/ECouzon
ATTACH;FMTTYPE="image/jpeg":http://storage.ning.com/topology/rest/1.0/
 file/get/1663052031?profile=original
ATTENDEE;ROLE=REQ-PARTICIPANT;PARTSTAT=ACCEPTED;RSVP=TRUE;CN="E. Couzo
 n":https://epanews.fr/profile/ECouzon
END:VEVENT
END:VCALENDAR
