BEGIN:VCALENDAR
PRODID:NingEventWidget-v1
VERSION:2.0
METHOD:PUBLISH
BEGIN:VTIMEZONE
TZID:Europe/Paris
X-LIC-LOCATION:Europe/Paris
BEGIN:DAYLIGHT
TZOFFSETFROM:+0100
TZOFFSETTO:+0200
TZNAME:CEST
DTSTART:19700329T020000
RRULE:FREQ=YEARLY;BYMONTH=3;BYDAY=-1SU
END:DAYLIGHT
BEGIN:STANDARD
TZOFFSETFROM:+0200
TZOFFSETTO:+0100
TZNAME:CET
DTSTART:19701025T030000
RRULE:FREQ=YEARLY;BYMONTH=10;BYDAY=-1SU
END:STANDARD
END:VTIMEZONE
BEGIN:VEVENT
UID:2485226:Event:2434543
DTSTAMP:20260421T095336Z
SUMMARY:Méditation: Développer la confiance en soi, en la vie
DESCRIPTION:Atelier de 19H30 à 20H30Méditations guidées collectives
  et tous niveauxPour découvrir et expérimenter sa réceptivité.pour
  élargir sa compréhension du monde.\n\nProchaines dates:\n17/12: Foi
 , confiance: jusqu'où puis-je,m'aider ? 7/01/16: Renaître à la Vie1
 4/01: Accueillir et cultiver le féminin sacré28/01: Sortir du trop e
 t de la dualité11/02: Aimer l'autre sans se perdre 25/02: Féminin, m
 asculin, accueillir sa moitié10/03: Être responsable, sortir des con
 flits24/03: Sortir du jugement, aimer sans condition\n\nInscriptions o
 bligatoire sur sophie@ombienetre.fr ou au 0662639817www.ombienetre.frT
 arifs: 15 € - Découverte : 10 €- 10 séances sur 6 mois maxi: 135
  €\nNombre limité de places\nAdresse: Espace Bien-ÊTre & Conscienc
 e\n12 ter rue d'Inkermann\n69100 Villeurbanne\n\nPour plus d'informati
 on, aller sur https://epanews.fr/events/m-ditation-d-velopper-la-confi
 ance-en-soi-en-la-vie
DTSTART;TZID=Europe/Paris:20151203T193000
DTEND;TZID=Europe/Paris:20151203T200000
CATEGORIES:69
LOCATION:Espace Bien-ÊTre & Conscience
WEBSITE:
URL:
CONTACT:
ORGANIZER;CN="Sophie Bertrand":https://epanews.fr/profile/SophieBertra
 nd
ATTACH;FMTTYPE="image/jpeg":http://storage.ning.com/topology/rest/1.0/
 file/get/1663459507?profile=original
ATTENDEE;ROLE=REQ-PARTICIPANT;PARTSTAT=ACCEPTED;RSVP=TRUE;CN="Sophie B
 ertrand":https://epanews.fr/profile/SophieBertrand
END:VEVENT
END:VCALENDAR
