BEGIN:VCALENDAR
PRODID:NingEventWidget-v1
VERSION:2.0
METHOD:PUBLISH
BEGIN:VTIMEZONE
TZID:Europe/Paris
X-LIC-LOCATION:Europe/Paris
BEGIN:DAYLIGHT
TZOFFSETFROM:+0100
TZOFFSETTO:+0200
TZNAME:CEST
DTSTART:19700329T020000
RRULE:FREQ=YEARLY;BYMONTH=3;BYDAY=-1SU
END:DAYLIGHT
BEGIN:STANDARD
TZOFFSETFROM:+0200
TZOFFSETTO:+0100
TZNAME:CET
DTSTART:19701025T030000
RRULE:FREQ=YEARLY;BYMONTH=10;BYDAY=-1SU
END:STANDARD
END:VTIMEZONE
BEGIN:VEVENT
UID:2485226:Event:2842725
DTSTAMP:20260420T130433Z
SUMMARY:Méditation Cristal : célébration du solstice d'été
DESCRIPTION:Méditation au son du cristal pour célébrer le solstice 
 d'été\nséance de 3/4 heures à 1 heure.\nSéance guidée par Elisab
 eth et Claude pour le son cristal\nLors de cette méditation, nous act
 iverons notre feu sacré, notre force, notre puissance intérieure en 
 résonance énergétique avec la nature.\nNous recevrons les fréquen
 ces de changement vers plus de paix et d'unité que nous ancrerons afi
 n de nous ouvrir à de nouvelles réalités. Nous allons nous réalign
 er vers nos intentions les plus élevées et nous permettre de diffuse
 r encore plus de Lumière et d'Amour.\nLe son du cristal\nLe travail c
 omplémentaire du son cristallin permet un meilleur ancrage au niveau 
 cellulaire. Il vous transporte dans un univers de paix, d'harmonie, de
  reconnexion avec Soi... \n(Dans cette salle, vous serez assis)\nNombr
 e de places possibles: 7\8 personnes\nDébut de la séance à 16h00 pr
 écises (merci d'être là pour 15h50)\n \nParticipation: 15€ ou av
 ec abonnement 12€ (carte de 5 séances 60€).\nLieu : 24 rue Jean B
 aptiste Pigalle\nMétro Trinité ou Pigalle (5 à 10 minutes de marche
 )\n\nPour plus d'information, aller sur https://epanews.fr/events/m-di
 tation-cristal-c-l-bration-du-solstice-d-t
DTSTART;TZID=Europe/Paris:20170621T154500
DTEND;TZID=Europe/Paris:20170621T170000
CATEGORIES:75
LOCATION:Paris
WEBSITE:
URL:
CONTACT:06 13 89 89 52
ORGANIZER;CN=Claude:https://epanews.fr/profile/claude
ATTACH;FMTTYPE="image/jpeg":
ATTENDEE;ROLE=REQ-PARTICIPANT;PARTSTAT=ACCEPTED;RSVP=TRUE;CN=Claude:ht
 tps://epanews.fr/profile/claude
END:VEVENT
END:VCALENDAR
