BEGIN:VCALENDAR
PRODID:NingEventWidget-v1
VERSION:2.0
METHOD:PUBLISH
BEGIN:VTIMEZONE
TZID:Europe/Paris
X-LIC-LOCATION:Europe/Paris
BEGIN:DAYLIGHT
TZOFFSETFROM:+0100
TZOFFSETTO:+0200
TZNAME:CEST
DTSTART:19700329T020000
RRULE:FREQ=YEARLY;BYMONTH=3;BYDAY=-1SU
END:DAYLIGHT
BEGIN:STANDARD
TZOFFSETFROM:+0200
TZOFFSETTO:+0100
TZNAME:CET
DTSTART:19701025T030000
RRULE:FREQ=YEARLY;BYMONTH=10;BYDAY=-1SU
END:STANDARD
END:VTIMEZONE
BEGIN:VEVENT
UID:2485226:Event:1028862
DTSTAMP:20260420T023331Z
SUMMARY:mÃ©ditation commune du 21 novembre 2012 Ã  21 heures
DESCRIPTION:Je vous propose de nous rÃ©unir aux quatres coins de la Pl
 anÃ¨te pour une mÃ©ditation le mercredi 21 novembre 2012 Ã  21 heures 
 afin d'adresser nos plus belles pensÃ©es Ã  la Terre, pour la libÃ©rer
  de toutes les rancunes, les haines, les colÃ¨res..\nLe temps de la mÃ
 ©ditation n'est pas important, seule l'intention compte.\nVous pouvez 
 diffuser cette information.\nMerci d'avance de votre participation.\nA
 vec amour\nBrigitte\n\nPour plus d'information, aller sur https://epan
 ews.fr/events/m-ditation-commune-du-21-novembre-2012-21-heures
DTSTART;TZID=Europe/Paris:20121121T060000
DTEND;TZID=Europe/Paris:20121121T190000
CATEGORIES:74
LOCATION:au domicile de chacune et chacun d'entre vous
WEBSITE:
URL:
CONTACT:
ORGANIZER;CN=brigittos:https://epanews.fr/profile/brigittos
ATTACH;FMTTYPE="image/jpeg":
ATTENDEE;ROLE=REQ-PARTICIPANT;PARTSTAT=ACCEPTED;RSVP=TRUE;CN=MarieGo11
 :https://epanews.fr/profile/MarieGo11
ATTENDEE;ROLE=REQ-PARTICIPANT;PARTSTAT=ACCEPTED;RSVP=TRUE;CN=brigittos
 :https://epanews.fr/profile/brigittos
END:VEVENT
END:VCALENDAR
