BEGIN:VCALENDAR
PRODID:NingEventWidget-v1
VERSION:2.0
METHOD:PUBLISH
BEGIN:VTIMEZONE
TZID:Europe/Paris
X-LIC-LOCATION:Europe/Paris
BEGIN:DAYLIGHT
TZOFFSETFROM:+0100
TZOFFSETTO:+0200
TZNAME:CEST
DTSTART:19700329T020000
RRULE:FREQ=YEARLY;BYMONTH=3;BYDAY=-1SU
END:DAYLIGHT
BEGIN:STANDARD
TZOFFSETFROM:+0200
TZOFFSETTO:+0100
TZNAME:CET
DTSTART:19701025T030000
RRULE:FREQ=YEARLY;BYMONTH=10;BYDAY=-1SU
END:STANDARD
END:VTIMEZONE
BEGIN:VEVENT
UID:2485226:Event:2434623
DTSTAMP:20260422T165028Z
SUMMARY:Méditation: Comment accepter sa part d'ombre ?
DESCRIPTION:Atelier de 19H30 à 20H30Méditations guidées collectives
  et tous niveauxPour découvrir et expérimenter sa réceptivité.pour
  élargir sa compréhension du monde.Le mois de novembre est sûrement
  celui le plus sombre de l'année.Journées courtes, peu de lumière, 
 pas encore les réjouissances des fêtes..c' est d'ailleurs le mois de
  la Toussaint.Ce mois nous connecte à nos profondeurs et à avec elle
 s, les peurs que nous y projetons....Comment accompagner cela au mieux
  pour ne pas sombrer et aussi semer les graines qui fleuriront demain,
  au prochain printemps ?Prochaines dates:17/12: Foi, confiance: jusqu'
 où puis-je,m'aider ? 7/01/16: Renaître à la Vie14/01: Accueillir e
 t cultiver le féminin sacré28/01: Sortir du trop et de la dualité11
 /02: Aimer l'autre sans se perdre 25/02: Féminin, masculin, accueill
 ir sa moitié10/03: Être responsable, sortir des conflits24/03: Sorti
 r du jugement, aimer sans conditionInscriptions obligatoire sur sophie
 @ombienetre.fr ou au 0662639817www.ombienetre.frTarifs: 15 € - Déco
 uverte : 10 €- 10 séances sur 6 mois maxi: 135 €Nombre limité de
  places\n\nAdresse:\nEspace Bien-Être & Conscience\n12 ter rue d'Inke
 rmann\n69100 Villeurbanne\n\nPour plus d'information, aller sur https:
 //epanews.fr/events/m-ditation-comment-accepter-sa-part-d-ombre
DTSTART;TZID=Europe/Paris:20151119T193000
DTEND;TZID=Europe/Paris:20151119T203000
CATEGORIES:69
LOCATION:Espace Bien-Être & Conscience
WEBSITE:
URL:
CONTACT:
ORGANIZER;CN="Sophie Bertrand":https://epanews.fr/profile/SophieBertra
 nd
ATTACH;FMTTYPE="image/jpeg":http://storage.ning.com/topology/rest/1.0/
 file/get/1663459443?profile=original
ATTENDEE;ROLE=REQ-PARTICIPANT;PARTSTAT=ACCEPTED;RSVP=TRUE;CN="Sophie B
 ertrand":https://epanews.fr/profile/SophieBertrand
END:VEVENT
END:VCALENDAR
