BEGIN:VCALENDAR
PRODID:NingEventWidget-v1
VERSION:2.0
METHOD:PUBLISH
BEGIN:VTIMEZONE
TZID:Europe/Paris
X-LIC-LOCATION:Europe/Paris
BEGIN:DAYLIGHT
TZOFFSETFROM:+0100
TZOFFSETTO:+0200
TZNAME:CEST
DTSTART:19700329T020000
RRULE:FREQ=YEARLY;BYMONTH=3;BYDAY=-1SU
END:DAYLIGHT
BEGIN:STANDARD
TZOFFSETFROM:+0200
TZOFFSETTO:+0100
TZNAME:CET
DTSTART:19701025T030000
RRULE:FREQ=YEARLY;BYMONTH=10;BYDAY=-1SU
END:STANDARD
END:VTIMEZONE
BEGIN:VEVENT
UID:2485226:Event:1106867
DTSTAMP:20260422T193845Z
SUMMARY:Méditation bouddhiste tibétaine hebdomadaire avec Samten Yes
 he Rinpoche
DESCRIPTION:Une occasion unique de recevoir des enseignements authenti
 ques et directs sur la pratique de la méditation bouddhiste tibétain
 e par un maître bouddhiste tibétain, Samten Yeshe Rinpoché.\nNé au
  Tibet, Samten Yeshe Rinpoché a accompli 16 années d'études au sein
  du Monastère de Menri et a obtenu le diplôme d’enseignement supé
 rieur de Docteur en Philosophie Bouddhiste en 2010. Après avoir ensei
 gné et professé au Tibet et en Inde, il voyage aujourd'hui en Europe
  afin d'offrir ses enseignements sur la philosophie et la méditation 
 bouddhistes ainsi que des consultations en astrologie tibétaine. \n\
 nPour plus d'information, aller sur https://epanews.fr/events/m-ditati
 on-bouddhiste-tib-taine-hebdomadaire-avec-samten-yeshe
DTSTART;TZID=Europe/Paris:20130112T170000
DTEND;TZID=Europe/Paris:20130112T190000
CATEGORIES:34
LOCATION:Centre de l'Arbre, Montpellier, Les Arceaux
WEBSITE:http://www.samtenyesherinpoche.fr
URL:http://www.samtenyesherinpoche.fr
CONTACT:0610473982
ORGANIZER;CN="judith soussans":https://epanews.fr/profile/judithsoussa
 ns
ATTACH;FMTTYPE="image/jpeg":
ATTENDEE;ROLE=REQ-PARTICIPANT;PARTSTAT=ACCEPTED;RSVP=TRUE;CN="judith s
 oussans":https://epanews.fr/profile/judithsoussans
END:VEVENT
END:VCALENDAR
