BEGIN:VCALENDAR
PRODID:NingEventWidget-v1
VERSION:2.0
METHOD:PUBLISH
BEGIN:VTIMEZONE
TZID:Europe/Paris
X-LIC-LOCATION:Europe/Paris
BEGIN:DAYLIGHT
TZOFFSETFROM:+0100
TZOFFSETTO:+0200
TZNAME:CEST
DTSTART:19700329T020000
RRULE:FREQ=YEARLY;BYMONTH=3;BYDAY=-1SU
END:DAYLIGHT
BEGIN:STANDARD
TZOFFSETFROM:+0200
TZOFFSETTO:+0100
TZNAME:CET
DTSTART:19701025T030000
RRULE:FREQ=YEARLY;BYMONTH=10;BYDAY=-1SU
END:STANDARD
END:VTIMEZONE
BEGIN:VEVENT
UID:2485226:Event:1749305
DTSTAMP:20260421T102636Z
SUMMARY:Méditation avec plus de 300 Cristaux- Expansion de Conscience
DESCRIPTION:Viviez une puissante Méditation vibratoire au coeur d'une
  crypte de 300 cristaux >>>Soirée spéciale DETOX....\nContact : dime
 nsionscristallines@gmail.com\n\nPour plus d'information, aller sur htt
 ps://epanews.fr/events/m-ditation-avec-les-cristaux
DTSTART;TZID=Europe/Paris:20140211T191500
DTEND;TZID=Europe/Paris:20140211T210000
CATEGORIES:75019
LOCATION:Paris 19e
WEBSITE:https://docs.google.com/forms/d/18XeQaRuRk8ljW-80jGf2EUxXM31mV
 LlsrcKheCR9IMs/viewform
URL:https://docs.google.com/forms/d/18XeQaRuRk8ljW-80jGf2EUxXM31mVLlsr
 cKheCR9IMs/viewform
CONTACT:
ORGANIZER;CN="Dimensions Cristallines":https://epanews.fr/profile/Dime
 nsionCristallines
ATTACH;FMTTYPE="image/jpeg":http://storage.ning.com/topology/rest/1.0/
 file/get/1663039840?profile=original
ATTENDEE;ROLE=REQ-PARTICIPANT;PARTSTAT=ACCEPTED;RSVP=TRUE;CN="Dimensio
 ns Cristallines":https://epanews.fr/profile/DimensionCristallines
END:VEVENT
END:VCALENDAR
