BEGIN:VCALENDAR
PRODID:NingEventWidget-v1
VERSION:2.0
METHOD:PUBLISH
BEGIN:VTIMEZONE
TZID:Europe/Paris
X-LIC-LOCATION:Europe/Paris
BEGIN:DAYLIGHT
TZOFFSETFROM:+0100
TZOFFSETTO:+0200
TZNAME:CEST
DTSTART:19700329T020000
RRULE:FREQ=YEARLY;BYMONTH=3;BYDAY=-1SU
END:DAYLIGHT
BEGIN:STANDARD
TZOFFSETFROM:+0200
TZOFFSETTO:+0100
TZNAME:CET
DTSTART:19701025T030000
RRULE:FREQ=YEARLY;BYMONTH=10;BYDAY=-1SU
END:STANDARD
END:VTIMEZONE
BEGIN:VEVENT
UID:2485226:Event:2320035
DTSTAMP:20260422T175629Z
SUMMARY:Méditation avec le chant des orques
DESCRIPTION:\n\nPour plus d'information, aller sur https://epanews.fr/
 events/m-ditation-avec-le-chant-des-orques-1
DTSTART;TZID=Europe/Paris:20150530T180000
DTEND;TZID=Europe/Paris:20150530T190000
CATEGORIES:83
LOCATION:Toulon, Le liber'thé
WEBSITE:https://www.google.fr/maps/place/12+Avenue+Jean+Moulin,+83000+
 Toulon/@43.1254642,5.9282736,17z/data=!3m1!4b1!4m2!3m1!1s0x12c91b1052d
 9e98d:0x94cd37445feb28e4?hl=fr
URL:https://www.google.fr/maps/place/12+Avenue+Jean+Moulin,+83000+Toul
 on/@43.1254642,5.9282736,17z/data=!3m1!4b1!4m2!3m1!1s0x12c91b1052d9e98
 d:0x94cd37445feb28e4?hl=fr
CONTACT:06 81 36 42 53
ORGANIZER;CN="Véronique Jaques":https://epanews.fr/profile/VeroniqueJ
 aques364
ATTACH;FMTTYPE="image/jpeg":
ATTENDEE;ROLE=REQ-PARTICIPANT;PARTSTAT=ACCEPTED;RSVP=TRUE;CN="Véroniq
 ue Jaques":https://epanews.fr/profile/VeroniqueJaques364
END:VEVENT
END:VCALENDAR
