BEGIN:VCALENDAR
PRODID:NingEventWidget-v1
VERSION:2.0
METHOD:PUBLISH
BEGIN:VTIMEZONE
TZID:Europe/Paris
X-LIC-LOCATION:Europe/Paris
BEGIN:DAYLIGHT
TZOFFSETFROM:+0100
TZOFFSETTO:+0200
TZNAME:CEST
DTSTART:19700329T020000
RRULE:FREQ=YEARLY;BYMONTH=3;BYDAY=-1SU
END:DAYLIGHT
BEGIN:STANDARD
TZOFFSETFROM:+0200
TZOFFSETTO:+0100
TZNAME:CET
DTSTART:19701025T030000
RRULE:FREQ=YEARLY;BYMONTH=10;BYDAY=-1SU
END:STANDARD
END:VTIMEZONE
BEGIN:VEVENT
UID:2485226:Event:2575587
DTSTAMP:20260424T215542Z
SUMMARY:MÃ©ditation au bol de cristal/TibÃ©tain
DESCRIPTION:Â  Â  Â  Â  Â Â MÃ©ditation aux sons du bol de cristal etÂ
   TibÃ©tain\nÂ \nJe vous propose de me rejoindre pour une mÃ©ditation 
 aux sons du bol de cristal et TibÃ©tain.\nÂ La mÃ©ditation apporte cal
 me, attention, clartÃ©, entre autres bienfaits.Â \nLe bol de cristal a
 gira en douceur sur les Ã©nergies subtiles de notre Ãªtre, alors que c
 elui TibÃ©tain ira plutÃ´t sur les parties â€˜terreâ€™ de notre organi
 sme.\nRelaxation et dÃ©tente profonde au programme.Â \nCe type de MÃ©d
 itation agit dans le respect et la justesse de tout Ã  chacun.\nÂ Un c
 ercle de parole est ouvert en suite si des besoins de partage se font 
 sentir.Â \nMerci de prÃ©voir un coussinÂ /plaid et Ã  votre ressenti u
 ne bouteille dâ€™eau.\nDans la joie de vous rencontrer.\nÂ Didier\n\nP
 our plus d'information, aller sur https://epanews.fr/events/m-ditation
 -au-bol-de-cristal-tib-tain
DTSTART;TZID=Europe/Paris:20160205T184500
DTEND;TZID=Europe/Paris:20160205T200000
CATEGORIES:83
LOCATION:Salle la Chrysalide bleue
WEBSITE:
URL:
CONTACT:06 04 42 85 13
ORGANIZER;CN=Etincelleducoeur:https://epanews.fr/profile/Etincelleduco
 eur
ATTACH;FMTTYPE="image/jpeg":http://storage.ning.com/topology/rest/1.0/
 file/get/1663524943?profile=original
ATTENDEE;ROLE=REQ-PARTICIPANT;PARTSTAT=ACCEPTED;RSVP=TRUE;CN=Etincelle
 ducoeur:https://epanews.fr/profile/Etincelleducoeur
END:VEVENT
END:VCALENDAR
