BEGIN:VCALENDAR
PRODID:NingEventWidget-v1
VERSION:2.0
METHOD:PUBLISH
BEGIN:VTIMEZONE
TZID:Europe/Paris
X-LIC-LOCATION:Europe/Paris
BEGIN:DAYLIGHT
TZOFFSETFROM:+0100
TZOFFSETTO:+0200
TZNAME:CEST
DTSTART:19700329T020000
RRULE:FREQ=YEARLY;BYMONTH=3;BYDAY=-1SU
END:DAYLIGHT
BEGIN:STANDARD
TZOFFSETFROM:+0200
TZOFFSETTO:+0100
TZNAME:CET
DTSTART:19701025T030000
RRULE:FREQ=YEARLY;BYMONTH=10;BYDAY=-1SU
END:STANDARD
END:VTIMEZONE
BEGIN:VEVENT
UID:2485226:Event:1042022
DTSTAMP:20260423T092642Z
SUMMARY:MÃ©ditation active d'Osho
DESCRIPTION:DÃ©couverte des MÃ©ditations active d'Osho. Exprimer ses Ã
 ©motions et lÃ¢cher ses tensions, pour se sentir libre et apaise.Date 
 d' inscription: 26/11/2012\n\nPour plus d'information, aller sur https
 ://epanews.fr/events/m-ditation-active-d-osho-6
DTSTART;TZID=Europe/Paris:20121201T090000
DTEND;TZID=Europe/Paris:20121201T124500
CATEGORIES:26200
LOCATION:Gymase Bouquet ,26200 MontÃ©limar
WEBSITE:
URL:
CONTACT:0621720337
ORGANIZER;CN="Owczarek Ajasta ( MÃ©ditation )":https://epanews.fr/prof
 ile/OwczarekAjastaMeditation
ATTACH;FMTTYPE="image/jpeg":http://storage.ning.com/topology/rest/1.0/
 file/get/1662702847?profile=original
ATTENDEE;ROLE=REQ-PARTICIPANT;PARTSTAT=ACCEPTED;RSVP=TRUE;CN="Owczarek
  Ajasta ( MÃ©ditation )":https://epanews.fr/profile/OwczarekAjastaMedi
 tation
END:VEVENT
END:VCALENDAR
