BEGIN:VCALENDAR
PRODID:NingEventWidget-v1
VERSION:2.0
METHOD:PUBLISH
BEGIN:VTIMEZONE
TZID:Europe/Paris
X-LIC-LOCATION:Europe/Paris
BEGIN:DAYLIGHT
TZOFFSETFROM:+0100
TZOFFSETTO:+0200
TZNAME:CEST
DTSTART:19700329T020000
RRULE:FREQ=YEARLY;BYMONTH=3;BYDAY=-1SU
END:DAYLIGHT
BEGIN:STANDARD
TZOFFSETFROM:+0200
TZOFFSETTO:+0100
TZNAME:CET
DTSTART:19701025T030000
RRULE:FREQ=YEARLY;BYMONTH=10;BYDAY=-1SU
END:STANDARD
END:VTIMEZONE
BEGIN:VEVENT
UID:2485226:Event:762883
DTSTAMP:20260422T162344Z
SUMMARY:Méditation active d'Osho
DESCRIPTION:\nMéditation Dynamique  TM\nLa méditation dynamique du
 re une heure et comporte cinq phases. On peut la faire seul, mais elle
  sera plus puissante encore si elle est pratiquée avec d´autres. Com
 me c´est une expérience individuelle, vous devriez rester non concer
 né par les autres personnes autour de vous et garder vos yeux fermés
  tout le temps, en utilisant de préférence un bandeau. Il est recomm
 andé d´avoir l´estomac vide et de porter des vêtements amples et c
 onfortables.   C´est une méditation dans laquelle il s´agit d´êt
 re continuellement alerte, conscient, vigilant, quoi que vous fassiez.
  Restez un témoin. Ne vous égarez pas : pendant la respiration vous 
 pourriez oublier et vous identifier à un tel point avec la respiratio
 n que vous oubliez d´en être le témoin. Mais alors vous ratez l´es
 sentiel. \n\n\n\n\n\nPour plus d'information, aller sur https://epane
 ws.fr/events/m-ditation-active-d-osho-3
DTSTART;TZID=Europe/Paris:20120630T090000
DTEND;TZID=Europe/Paris:20120630T124500
CATEGORIES:26
LOCATION:montelimar
WEBSITE:
URL:
CONTACT:0621720337
ORGANIZER;CN="Owczarek Ajasta ( Méditation )":https://epanews.fr/prof
 ile/OwczarekAjastaMeditation
ATTACH;FMTTYPE="image/jpeg":http://storage.ning.com/topology/rest/1.0/
 file/get/1662591980?profile=original
ATTENDEE;ROLE=REQ-PARTICIPANT;PARTSTAT=ACCEPTED;RSVP=TRUE;CN="Owczarek
  Ajasta ( Méditation )":https://epanews.fr/profile/OwczarekAjastaMedi
 tation
ATTENDEE;ROLE=REQ-PARTICIPANT;PARTSTAT=TENTATIVE;RSVP=TRUE;CN=caronatu
 ro:https://epanews.fr/profile/caronaturo
END:VEVENT
END:VCALENDAR
