BEGIN:VCALENDAR
PRODID:NingEventWidget-v1
VERSION:2.0
METHOD:PUBLISH
BEGIN:VTIMEZONE
TZID:Europe/Paris
X-LIC-LOCATION:Europe/Paris
BEGIN:DAYLIGHT
TZOFFSETFROM:+0100
TZOFFSETTO:+0200
TZNAME:CEST
DTSTART:19700329T020000
RRULE:FREQ=YEARLY;BYMONTH=3;BYDAY=-1SU
END:DAYLIGHT
BEGIN:STANDARD
TZOFFSETFROM:+0200
TZOFFSETTO:+0100
TZNAME:CET
DTSTART:19701025T030000
RRULE:FREQ=YEARLY;BYMONTH=10;BYDAY=-1SU
END:STANDARD
END:VTIMEZONE
BEGIN:VEVENT
UID:2485226:Event:579068
DTSTAMP:20260423T034510Z
SUMMARY:Méditation active d'Osho
DESCRIPTION:Tous les vendredis de 18h30 à 20h à Montélimar\nAtelier
  de \"Méditation active d'Osho\"\nAnimée par Ajasta\nEntrée 4€\n\
 nPour plus d'information, aller sur https://epanews.fr/events/m-ditati
 on-active-d-osho-1
DTSTART;TZID=Europe/Paris:20111104T183000
DTEND;TZID=Europe/Paris:20111104T200000
CATEGORIES:26
LOCATION:MONTELIMAR
WEBSITE:http://www.centre-cikitsa.com/centre
URL:http://www.centre-cikitsa.com/centre
CONTACT:06.21.72.03.37
ORGANIZER;CN="Centre CIKITSA":https://epanews.fr/profile/CentreCIKITSA
ATTACH;FMTTYPE="image/jpeg":http://storage.ning.com/topology/rest/1.0/
 file/get/1662483005?profile=original
ATTENDEE;ROLE=REQ-PARTICIPANT;PARTSTAT=ACCEPTED;RSVP=TRUE;CN="Centre C
 IKITSA":https://epanews.fr/profile/CentreCIKITSA
END:VEVENT
END:VCALENDAR
