BEGIN:VCALENDAR
PRODID:NingEventWidget-v1
VERSION:2.0
METHOD:PUBLISH
BEGIN:VTIMEZONE
TZID:Europe/Paris
X-LIC-LOCATION:Europe/Paris
BEGIN:DAYLIGHT
TZOFFSETFROM:+0100
TZOFFSETTO:+0200
TZNAME:CEST
DTSTART:19700329T020000
RRULE:FREQ=YEARLY;BYMONTH=3;BYDAY=-1SU
END:DAYLIGHT
BEGIN:STANDARD
TZOFFSETFROM:+0200
TZOFFSETTO:+0100
TZNAME:CET
DTSTART:19701025T030000
RRULE:FREQ=YEARLY;BYMONTH=10;BYDAY=-1SU
END:STANDARD
END:VTIMEZONE
BEGIN:VEVENT
UID:2485226:Event:1579891
DTSTAMP:20260423T111001Z
SUMMARY:MÃ©ditation
DESCRIPTION:\nMÃ©diter: Un temps pour Soi. atelier tous les Mercredi Ã
   18h30 - 19h45 \nCes ateliers vous proposent de dÃ©couvrir de nombreu
 ses techniques de mÃ©ditations ainsi que des techniquesÂ de relaxation
 s.\nAvant la sÃ©ance des notions thÃ©oriques sont abordÃ©s.\ntenue sou
 ple et confortable.\n\nPour plus d'information, aller sur https://epan
 ews.fr/events/m-ditation-6
DTSTART;TZID=Europe/Paris:20131113T130000
DTEND;TZID=Europe/Paris:20131113T203000
CATEGORIES:13
LOCATION:Centre de Psychologie Bien-Ãªtre et SantÃ©
WEBSITE:http://www.connaissance-et-savoir.com
URL:http://www.connaissance-et-savoir.com
CONTACT:06 17 21 36 95
ORGANIZER;CN="VÃ©ronique SORRENTINO":https://epanews.fr/profile/Connai
 ssanceetSavoir
ATTACH;FMTTYPE="image/jpeg":http://storage.ning.com/topology/rest/1.0/
 file/get/1662946850?profile=original
ATTENDEE;ROLE=REQ-PARTICIPANT;PARTSTAT=ACCEPTED;RSVP=TRUE;CN="VÃ©roniq
 ue SORRENTINO":https://epanews.fr/profile/ConnaissanceetSavoir
END:VEVENT
END:VCALENDAR
