BEGIN:VCALENDAR
PRODID:NingEventWidget-v1
VERSION:2.0
METHOD:PUBLISH
BEGIN:VTIMEZONE
TZID:Europe/Paris
X-LIC-LOCATION:Europe/Paris
BEGIN:DAYLIGHT
TZOFFSETFROM:+0100
TZOFFSETTO:+0200
TZNAME:CEST
DTSTART:19700329T020000
RRULE:FREQ=YEARLY;BYMONTH=3;BYDAY=-1SU
END:DAYLIGHT
BEGIN:STANDARD
TZOFFSETFROM:+0200
TZOFFSETTO:+0100
TZNAME:CET
DTSTART:19701025T030000
RRULE:FREQ=YEARLY;BYMONTH=10;BYDAY=-1SU
END:STANDARD
END:VTIMEZONE
BEGIN:VEVENT
UID:2485226:Event:2101637
DTSTAMP:20260422T155153Z
SUMMARY:Méditation
DESCRIPTION:Ressourcement et Enrichissement de l’Esprit\n« Toute c
 hose sera révélée à l’homme qui médite réellement. Il comprend
 ra les choses cachées de la nature et les secrets de la vie de l’es
 prit. Il saura aussi comment il sait. »\nAlice BAILEY\n \nCes ateli
 ers vous proposent de découvrir de nombreuses techniques de méditati
 ons ainsi que des techniques de relaxations. Avant la séance des no
 tions théoriques sont abordés.\nTenue souple et confortable\nMédita
 tion tous les mercredis à 18h30\n\nPour plus d'information, aller sur
  https://epanews.fr/events/m-ditation-17
DTSTART;TZID=Europe/Paris:20141112T130000
DTEND;TZID=Europe/Paris:20141112T200000
CATEGORIES:13
LOCATION:Centre de Psychologie Bien-être et Santé
WEBSITE:http://www.connaissanceetsavoir.com
URL:http://www.connaissanceetsavoir.com
CONTACT:06 17 21 36 95
ORGANIZER;CN="Véronique SORRENTINO":https://epanews.fr/profile/Connai
 ssanceetSavoir
ATTACH;FMTTYPE="image/jpeg":http://storage.ning.com/topology/rest/1.0/
 file/get/1663243891?profile=original
ATTENDEE;ROLE=REQ-PARTICIPANT;PARTSTAT=ACCEPTED;RSVP=TRUE;CN="Véroniq
 ue SORRENTINO":https://epanews.fr/profile/ConnaissanceetSavoir
END:VEVENT
END:VCALENDAR
