BEGIN:VCALENDAR
PRODID:NingEventWidget-v1
VERSION:2.0
METHOD:PUBLISH
BEGIN:VTIMEZONE
TZID:Europe/Paris
X-LIC-LOCATION:Europe/Paris
BEGIN:DAYLIGHT
TZOFFSETFROM:+0100
TZOFFSETTO:+0200
TZNAME:CEST
DTSTART:19700329T020000
RRULE:FREQ=YEARLY;BYMONTH=3;BYDAY=-1SU
END:DAYLIGHT
BEGIN:STANDARD
TZOFFSETFROM:+0200
TZOFFSETTO:+0100
TZNAME:CET
DTSTART:19701025T030000
RRULE:FREQ=YEARLY;BYMONTH=10;BYDAY=-1SU
END:STANDARD
END:VTIMEZONE
BEGIN:VEVENT
UID:2485226:Event:1139415
DTSTAMP:20260421T221212Z
SUMMARY:Lyon - La guérison par voie spirituelle – la santé de dema
 in
DESCRIPTION:\nConférence d’information sur l’aide et la guérison
  par voie spirituelle selon l’enseignement de Bruno Gröning. Par la
  réception de la force spirituelle, de plus en plus de gens guérisse
 nt de maladies considérées comme incurables par le corps médical. D
 es guérisons attestées par  des médecins indépendants prouvent la
  véracité des paroles de Bruno Gröning : \"Rien n’est incurable 
 – Dieu est le plus grand médecin\".\nLe «courant guérisseur», qu
 e l’on peut ressentir dans son corps, peut être à l’origine d’
 aides et de guérisons, même d'affections  psychiques  et de dépen
 dances considérées comme incurables.\nDes personnes guéries témoig
 neront.\nToutes les personnes intéressées sont cordialement invitée
 s.\nEntrée et participation aux frais, libres, les dons sont les bien
 venus\n\n\n\nPour plus d'information, aller sur https://epanews.fr/eve
 nts/lyon-la-gu-rison-par-voie-spirituelle-la-sant-de-demain
DTSTART;TZID=Europe/Paris:20130210T150000
DTEND;TZID=Europe/Paris:20130210T170000
CATEGORIES:69
LOCATION:Palette Etoile
WEBSITE:http://<iframe width=\"425\" height=\"350\" frameborder=\"0\" 
 scrolling=\"no\" marginheight=\"0\" marginwidth=\"0\" src=\"https://ma
 ps.google.com/maps?f=q&amp;source=s_q&amp;hl=fr&amp;geocode=&amp;q=3+R
 ue+Jean-Claude+Vivant,+Villeurbanne,+France&amp;aq=&amp;sll=37.0625,-9
 5.677068&amp;sspn=35.273162,56.513672&amp;ie=UTF8&amp;split=0&amp;hq=&
 amp;hnear=3+Rue+Jean-Claude+Vivant,+69100+Villeurbanne,+Rh%C3%B4ne,+Rh
 %C3%B4ne-Alpes,+France&amp;ll=45.770665,4.868236&amp;spn=0.015177,0.02
 7595&amp;t=m&amp;z=14&amp;output=embed
URL:http://<iframe width=\"425\" height=\"350\" frameborder=\"0\" scro
 lling=\"no\" marginheight=\"0\" marginwidth=\"0\" src=\"https://maps.g
 oogle.com/maps?f=q&amp;source=s_q&amp;hl=fr&amp;geocode=&amp;q=3+Rue+J
 ean-Claude+Vivant,+Villeurbanne,+France&amp;aq=&amp;sll=37.0625,-95.67
 7068&amp;sspn=35.273162,56.513672&amp;ie=UTF8&amp;split=0&amp;hq=&amp;
 hnear=3+Rue+Jean-Claude+Vivant,+69100+Villeurbanne,+Rh%C3%B4ne,+Rh%C3%
 B4ne-Alpes,+France&amp;ll=45.770665,4.868236&amp;spn=0.015177,0.027595
 &amp;t=m&amp;z=14&amp;output=embed
CONTACT:0478398764 / 09 50 60 29 24
ORGANIZER:Cercle des amis de Bruno Gröning
ATTACH;FMTTYPE="image/jpeg":http://storage.ning.com/topology/rest/1.0/
 file/get/1662745818?profile=original
ATTENDEE;ROLE=REQ-PARTICIPANT;PARTSTAT=ACCEPTED;RSVP=TRUE;CN=Partage:h
 ttps://epanews.fr/profile/Partage
END:VEVENT
END:VCALENDAR
