BEGIN:VCALENDAR
PRODID:NingEventWidget-v1
VERSION:2.0
METHOD:PUBLISH
BEGIN:VTIMEZONE
TZID:Europe/Paris
X-LIC-LOCATION:Europe/Paris
BEGIN:DAYLIGHT
TZOFFSETFROM:+0100
TZOFFSETTO:+0200
TZNAME:CEST
DTSTART:19700329T020000
RRULE:FREQ=YEARLY;BYMONTH=3;BYDAY=-1SU
END:DAYLIGHT
BEGIN:STANDARD
TZOFFSETFROM:+0200
TZOFFSETTO:+0100
TZNAME:CET
DTSTART:19701025T030000
RRULE:FREQ=YEARLY;BYMONTH=10;BYDAY=-1SU
END:STANDARD
END:VTIMEZONE
BEGIN:VEVENT
UID:2485226:Event:2576519
DTSTAMP:20260422T140328Z
SUMMARY:Luriama
DESCRIPTION:Conférence « PARTAGE DANS L’ESPACE DU COEUR » le 6 av
 ril à Bruxelles http://eveilspirituel.net/activites-display.asp?i=152
 Les partages dans l'espace du coeur sont des moments de rencontre où,
  sans but et sans thème prédéterminé, nous partageons l'instant pr
 ésent. Dépouillé de tout désir et de toute volonté, nous nous ren
 controns sur un terrain éternellement vierge, l’instant.\n\nPour pl
 us d'information, aller sur https://epanews.fr/events/luriama
DTSTART;TZID=Europe/Paris:20160406T200000
DTEND;TZID=Europe/Paris:20160406T220000
CATEGORIES:belgique
LOCATION:Bruxelles 1200  rue Kelle, 48
WEBSITE:
URL:
CONTACT:
ORGANIZER;CN=luriama:https://epanews.fr/profile/luriama
ATTACH;FMTTYPE="image/jpeg":http://storage.ning.com/topology/rest/1.0/
 file/get/1663529546?profile=original
ATTENDEE;ROLE=REQ-PARTICIPANT;PARTSTAT=ACCEPTED;RSVP=TRUE;CN=luriama:h
 ttps://epanews.fr/profile/luriama
END:VEVENT
END:VCALENDAR
