BEGIN:VCALENDAR
PRODID:NingEventWidget-v1
VERSION:2.0
METHOD:PUBLISH
BEGIN:VTIMEZONE
TZID:Europe/Paris
X-LIC-LOCATION:Europe/Paris
BEGIN:DAYLIGHT
TZOFFSETFROM:+0100
TZOFFSETTO:+0200
TZNAME:CEST
DTSTART:19700329T020000
RRULE:FREQ=YEARLY;BYMONTH=3;BYDAY=-1SU
END:DAYLIGHT
BEGIN:STANDARD
TZOFFSETFROM:+0200
TZOFFSETTO:+0100
TZNAME:CET
DTSTART:19701025T030000
RRULE:FREQ=YEARLY;BYMONTH=10;BYDAY=-1SU
END:STANDARD
END:VTIMEZONE
BEGIN:VEVENT
UID:2485226:Event:2790293
DTSTAMP:20260422T202907Z
SUMMARY:Lumiere de l'etre
DESCRIPTION:Atelier Astrologie-mÃ©ditation \"Lunaison des Poissons\"\n
 Lâ€™association LumiÃ¨re de lâ€™Etre vous propose un atelier dâ€™astro
 logie placÃ© sous les Ã©nergies de la nouvelle lune dans le signe des 
 Poissons qui clÃ´turera lâ€™annÃ©e zodiacale (du BÃ©lier aux Poissons)
 . PÃ©riode de bilan, de gestation, prÃ©paration du renouveau et de con
 nexion plus forte avec notre Ã¢me.\nChaque lunaison est une opportunit
 Ã© vers un nouveau commencement (prise de conscience, nouvelles idÃ©es
 , Â nouveau projet, nouvelle vision, etc.) en lien avec le signe du mo
 is et la position des planÃ¨tes. Le message des astres nous aide Ã  mi
 eux comprendre les Ã©vÃ¨nements que nous vivons et Ã  intÃ©grer notre 
 potentiel de rÃ©alisation.\nGrÃ¢ce Ã  notre carte du ciel natale, nous
  pourrons voir quelles sont les points personnels activÃ©s par les Ã©n
 ergies planÃ©taires actuelles.\nNous poserons nos intentions, dans la 
 dimension du cÅ“ur, pour ce nouveau cycle lunaire qui nous prÃ©pare au
  renouveau du printemps.\nUne mÃ©ditation nous permettra de nous align
 er avec notre Ã¢me.\nAucune connaissance en astrologie nâ€™est demandÃ
 ©e pour participer.\nTARIF : 20 euros\nRenseignements et inscriptionsÂ
  : 06.62.11.58.69\nLumieredeletre83@gmail.com\n\nPour plus d'informati
 on, aller sur https://epanews.fr/events/lumiere-de-l-etre
DTSTART;TZID=Europe/Paris:20170224T143000
DTEND;TZID=Europe/Paris:20170224T160000
CATEGORIES:83
LOCATION:L'Alchimie - 27 rue Truguet - TOULON
WEBSITE:
URL:
CONTACT:
ORGANIZER;CN=Maud:https://epanews.fr/profile/Maud
ATTACH;FMTTYPE="image/jpeg":http://storage.ning.com/topology/rest/1.0/
 file/get/1663645574?profile=original
ATTENDEE;ROLE=REQ-PARTICIPANT;PARTSTAT=ACCEPTED;RSVP=TRUE;CN=Maud:http
 s://epanews.fr/profile/Maud
END:VEVENT
END:VCALENDAR
