BEGIN:VCALENDAR
PRODID:NingEventWidget-v1
VERSION:2.0
METHOD:PUBLISH
BEGIN:VTIMEZONE
TZID:Europe/Paris
X-LIC-LOCATION:Europe/Paris
BEGIN:DAYLIGHT
TZOFFSETFROM:+0100
TZOFFSETTO:+0200
TZNAME:CEST
DTSTART:19700329T020000
RRULE:FREQ=YEARLY;BYMONTH=3;BYDAY=-1SU
END:DAYLIGHT
BEGIN:STANDARD
TZOFFSETFROM:+0200
TZOFFSETTO:+0100
TZNAME:CET
DTSTART:19701025T030000
RRULE:FREQ=YEARLY;BYMONTH=10;BYDAY=-1SU
END:STANDARD
END:VTIMEZONE
BEGIN:VEVENT
UID:2485226:Event:12427
DTSTAMP:20260421T153525Z
SUMMARY:Lorsque la Danse rencontre l'HypnoChangement
DESCRIPTION:La rencontre entre la Danse en tant qu'outil thérapeutiqu
 e et l'HypnoChangement.\n\nPour plus d'information, aller sur https://
 epanews.fr/events/lorsque-la-danse-rencontre
DTSTART;TZID=Europe/Paris:20091030T203000
DTEND;TZID=Europe/Paris:20091030T223000
CATEGORIES:84
LOCATION:Conférence
WEBSITE:http://www.danse-therapie.com
URL:http://www.danse-therapie.com
CONTACT:0490740169
ORGANIZER:Valérie GALENO - DELOGU
ATTACH;FMTTYPE="image/jpeg":http://storage.ning.com/topology/rest/1.0/
 file/get/1662278630?profile=original
ATTENDEE;ROLE=REQ-PARTICIPANT;PARTSTAT=ACCEPTED;RSVP=TRUE;CN="Danse Bi
 en Etre":https://epanews.fr/profile/GALENODELOGU
END:VEVENT
END:VCALENDAR
