BEGIN:VCALENDAR
PRODID:NingEventWidget-v1
VERSION:2.0
METHOD:PUBLISH
BEGIN:VTIMEZONE
TZID:Europe/Paris
X-LIC-LOCATION:Europe/Paris
BEGIN:DAYLIGHT
TZOFFSETFROM:+0100
TZOFFSETTO:+0200
TZNAME:CEST
DTSTART:19700329T020000
RRULE:FREQ=YEARLY;BYMONTH=3;BYDAY=-1SU
END:DAYLIGHT
BEGIN:STANDARD
TZOFFSETFROM:+0200
TZOFFSETTO:+0100
TZNAME:CET
DTSTART:19701025T030000
RRULE:FREQ=YEARLY;BYMONTH=10;BYDAY=-1SU
END:STANDARD
END:VTIMEZONE
BEGIN:VEVENT
UID:2485226:Event:21746
DTSTAMP:20260419T181425Z
SUMMARY:loi attraction
DESCRIPTION:Mai 1997,\nJe suis en forÃªt amazonienne pour une quÃªte d
 e vision avec des chamans.\nLors de cette quÃªte, je reÃ§ois des rÃ©vÃ
 ©lations intÃ©rieures et certaines d'entre elles concernent la loi d'a
 ttraction.\nFidÃ¨le a cette guidance que je sentais venir de mon moi s
 upÃ©rieur je n'ai cessÃ© de m'intÃ©resser Ã  tout ce qui\npouvait avoi
 r un rapport de prÃ¨s ou de loin avec cette loi. J'ai Ã©tÃ© instruit a
 u travers de certaines Ã©coles Ã©sotÃ©riques,\nmais aussi dans l'ensei
 gnement de Ghislaine LanctÃ´t Ã  travers le principe fÃ©minin, le prin
 cipe masculin.\nPlus rÃ©cemment je me suis intÃ©ressÃ© au courant de l
 a nouvelle pensÃ©e au travers d'auteurs comme\nCharles Haanel, Wallace
  D. Wattles avec sa trilogie, la science de l'enrichissement, la scien
 ce de la grandeur,\nla science de la santÃ©. Le parcours Jerry et Esth
 er Hicks qui canalisent l'entitÃ© qui se fait appeler Abraham\nm'a app
 ortÃ© bien des Ã©claircissement, notamment Ã  travers leur livre crÃ©a
 teur d'avant garde.\nJ'ai suivi plusieurs formations, en particulier c
 elle d'expert consultant sur la loi d'attraction de Marcelle della Fai
 lle.\n\nD'autre part je pense que nous sommes dans une pÃ©riode de gra
 nds changements et savoir utiliser la pensÃ©e crÃ©atrice\nva devenir d
 e plus en plus important, voire primordial. Le calendrier Maya nous an
 nonce que dÃ¨s fÃ©vrier 2011\nnous allons entrer dans une pÃ©riode de 
 cocrÃ©ation. A mes yeux il est important que cette nouvelle pensÃ©e de
 vienne\naccessible Ã  un maximum de personnes afin que nous apprenions
  Ã  crÃ©er collectivement le monde dans lequel nous allons vivre.\nNÃ©
 anmoins je pense que cette dÃ©marche doit commencer par Ãªtre individu
 elle.\nRÃ©cemment j'ai eu l'opportunitÃ© de racheter les droits de dif
 fusion d'un cours sur la loi d'attraction.\n(http://loi.attraction.onl
 ine.fr/Attraction/ApSecrets.php ) .\nAujourd'hui j'ai crÃ©Ã© un site p
 our diffuser ce cours\n(http://loi.attraction.online.fr ).\nQui plus e
 st, Ã  travers ce site je tiens Ã  vous associer Ã  la diffusion de ce
 tte nouvelle pensÃ©e par l'entremise\nd'un programme d'affiliation trÃ
 ¨s motivant.\n(http://loi.attraction.online.fr/Attraction/Opportunite.
 php ) .\n\nSouhaitant notre succÃ¨s commun et la crÃ©ation d'un monde 
 plus juste, plus vrai, plus beau\nen maitrisant les arcanes de cette l
 oi d'attraction, je vous invite Ã  me rejoindre dans cette aventure,\n
 \nBien cordialement,\n\nJean-Claude Carceller\n\nPour plus d'informati
 on, aller sur https://epanews.fr/events/loi-attraction
DTSTART;TZID=Europe/Paris:20091109T180000
DTEND;TZID=Europe/Paris:20091114T190000
CATEGORIES:tous
LOCATION:formation
WEBSITE:http://loi.attraction.online.fr
URL:http://loi.attraction.online.fr
CONTACT:
ORGANIZER;CN=Jean-Claude:https://epanews.fr/profile/Carceller
ATTACH;FMTTYPE="image/jpeg":
ATTENDEE;ROLE=REQ-PARTICIPANT;PARTSTAT=ACCEPTED;RSVP=TRUE;CN=Jean-Clau
 de:https://epanews.fr/profile/Carceller
END:VEVENT
END:VCALENDAR
