BEGIN:VCALENDAR
PRODID:NingEventWidget-v1
VERSION:2.0
METHOD:PUBLISH
BEGIN:VTIMEZONE
TZID:Europe/Paris
X-LIC-LOCATION:Europe/Paris
BEGIN:DAYLIGHT
TZOFFSETFROM:+0100
TZOFFSETTO:+0200
TZNAME:CEST
DTSTART:19700329T020000
RRULE:FREQ=YEARLY;BYMONTH=3;BYDAY=-1SU
END:DAYLIGHT
BEGIN:STANDARD
TZOFFSETFROM:+0200
TZOFFSETTO:+0100
TZNAME:CET
DTSTART:19701025T030000
RRULE:FREQ=YEARLY;BYMONTH=10;BYDAY=-1SU
END:STANDARD
END:VTIMEZONE
BEGIN:VEVENT
UID:2485226:Event:212393
DTSTAMP:20260424T023204Z
SUMMARY:Lithothérapie
DESCRIPTION:Atelier de Lithothérapie animé par Yvette Rio\nLes pierr
 es et leurs bienfaits sur votre santé\nSoins individuels, conseils, e
 xposition de pierres et de bijoux artisanaux\nParticipation Libre\nA C
 enthéA - Les camails - Le Thoronet\n\nPour plus d'information, aller 
 sur https://epanews.fr/events/lithotherapie-1
DTSTART;TZID=Europe/Paris:20110320T140000
DTEND;TZID=Europe/Paris:20110320T170000
CATEGORIES:83
LOCATION:le Thoronet
WEBSITE:http://centhea.free.fr
URL:http://centhea.free.fr
CONTACT:06 46 85 31 50 / 04 94 01 97 90
ORGANIZER;CN=CenthéA:https://epanews.fr/profile/GROUPIERREChantal
ATTACH;FMTTYPE="image/jpeg":http://storage.ning.com/topology/rest/1.0/
 file/get/1662389407?profile=original
ATTENDEE;ROLE=REQ-PARTICIPANT;PARTSTAT=ACCEPTED;RSVP=TRUE;CN=CenthéA:
 https://epanews.fr/profile/GROUPIERREChantal
END:VEVENT
END:VCALENDAR
