BEGIN:VCALENDAR
PRODID:NingEventWidget-v1
VERSION:2.0
METHOD:PUBLISH
BEGIN:VTIMEZONE
TZID:Europe/Paris
X-LIC-LOCATION:Europe/Paris
BEGIN:DAYLIGHT
TZOFFSETFROM:+0100
TZOFFSETTO:+0200
TZNAME:CEST
DTSTART:19700329T020000
RRULE:FREQ=YEARLY;BYMONTH=3;BYDAY=-1SU
END:DAYLIGHT
BEGIN:STANDARD
TZOFFSETFROM:+0200
TZOFFSETTO:+0100
TZNAME:CET
DTSTART:19701025T030000
RRULE:FREQ=YEARLY;BYMONTH=10;BYDAY=-1SU
END:STANDARD
END:VTIMEZONE
BEGIN:VEVENT
UID:2485226:Event:1152784
DTSTAMP:20260422T024727Z
SUMMARY:lithothérapie, à l'occasion de la Saint Valentin
DESCRIPTION:Pour l'occasion de la saint valentin, des minéraux à par
 tir de 2 euros : PENDULES/ BIJOUX/PIERRES/DECORATION  PORTE OUVERTE DI
 MANCHE 10 FEVRIER A FAVERGES 74210 A PARTIR DE 10 HEURES\n06 73 01 41 
 35 pour adresse ou renseignements\n\nPour plus d'information, aller su
 r https://epanews.fr/events/lithoth-rapie-l-occasion-de-la-saint-valen
 tin
DTSTART;TZID=Europe/Paris:20130210T000000
DTEND;TZID=Europe/Paris:20130210T235900
CATEGORIES:rhone, alpes
LOCATION:74210 Faverges
WEBSITE:http://www.cosmetiques-savons-parfums.com
URL:http://www.cosmetiques-savons-parfums.com
CONTACT:0673014135
ORGANIZER;CN="Millot Sabrina":https://epanews.fr/profile/MillotSabrina
ATTACH;FMTTYPE="image/jpeg":http://storage.ning.com/topology/rest/1.0/
 file/get/1662752130?profile=original
ATTENDEE;ROLE=REQ-PARTICIPANT;PARTSTAT=ACCEPTED;RSVP=TRUE;CN="Millot S
 abrina":https://epanews.fr/profile/MillotSabrina
END:VEVENT
END:VCALENDAR
