BEGIN:VCALENDAR
PRODID:NingEventWidget-v1
VERSION:2.0
METHOD:PUBLISH
BEGIN:VTIMEZONE
TZID:Europe/Paris
X-LIC-LOCATION:Europe/Paris
BEGIN:DAYLIGHT
TZOFFSETFROM:+0100
TZOFFSETTO:+0200
TZNAME:CEST
DTSTART:19700329T020000
RRULE:FREQ=YEARLY;BYMONTH=3;BYDAY=-1SU
END:DAYLIGHT
BEGIN:STANDARD
TZOFFSETFROM:+0200
TZOFFSETTO:+0100
TZNAME:CET
DTSTART:19701025T030000
RRULE:FREQ=YEARLY;BYMONTH=10;BYDAY=-1SU
END:STANDARD
END:VTIMEZONE
BEGIN:VEVENT
UID:2485226:Event:521208
DTSTAMP:20260423T053430Z
SUMMARY:Lise Bourbeau
DESCRIPTION:Conférence avec Lise Bourbeau \"Comment faire respecter s
 on espace\" Prix 15 €\nRéservation librairie la Rose Mystique 2 rue
  Bonne nouvelle RENNES .02 99 38 70 96.\npar courrier postal rennes@eo
 utetoncorps.com\n\nPour plus d'information, aller sur https://epanews.
 fr/events/lise-bourbeau
DTSTART;TZID=Europe/Paris:20110927T200000
DTEND;TZID=Europe/Paris:20110927T220000
CATEGORIES:35
LOCATION:RENNES
WEBSITE:
URL:
CONTACT:06 88 73 82 45
ORGANIZER;CN=Caraes:https://epanews.fr/profile/Caraes
ATTACH;FMTTYPE="image/jpeg":http://storage.ning.com/topology/rest/1.0/
 file/get/1662456583?profile=original
ATTENDEE;ROLE=REQ-PARTICIPANT;PARTSTAT=ACCEPTED;RSVP=TRUE;CN=Caraes:ht
 tps://epanews.fr/profile/Caraes
END:VEVENT
END:VCALENDAR
