BEGIN:VCALENDAR
PRODID:NingEventWidget-v1
VERSION:2.0
METHOD:PUBLISH
BEGIN:VTIMEZONE
TZID:Europe/Paris
X-LIC-LOCATION:Europe/Paris
BEGIN:DAYLIGHT
TZOFFSETFROM:+0100
TZOFFSETTO:+0200
TZNAME:CEST
DTSTART:19700329T020000
RRULE:FREQ=YEARLY;BYMONTH=3;BYDAY=-1SU
END:DAYLIGHT
BEGIN:STANDARD
TZOFFSETFROM:+0200
TZOFFSETTO:+0100
TZNAME:CET
DTSTART:19701025T030000
RRULE:FREQ=YEARLY;BYMONTH=10;BYDAY=-1SU
END:STANDARD
END:VTIMEZONE
BEGIN:VEVENT
UID:2485226:Event:2717297
DTSTAMP:20260421T083630Z
SUMMARY:Atelier exceptionnel – Se Liberer de l'emprise des 5 blessur
 es
DESCRIPTION:Atelier exceptionnel – Se Liberer de l'emprise des 5 bl
 essures \n Avec Lise BOURBEAU le 3 Octobre à Romans salle Charles Mi
 chels à 19h30 (Conférence / Atelier d’une durée de 3h00 )\n App
 rendre d’où viennent les cinq blessures de l’âme Comment les rec
 onnaître & Amorcer la guérison ?\n\nPour plus d'information, aller s
 ur https://epanews.fr/events/lise-bourbeau-atelier-exceptionnel-le-3-o
 ctobre-romans
DTSTART;TZID=Europe/Paris:20161003T190000
DTEND;TZID=Europe/Paris:20161003T220000
CATEGORIES:26
LOCATION:romans
WEBSITE:http://planetaiire.fr/
URL:http://planetaiire.fr/
CONTACT:09.54.69.62.11
ORGANIZER:Planetaiire
ATTACH;FMTTYPE="image/jpeg":http://storage.ning.com/topology/rest/1.0/
 file/get/1663610247?profile=original
ATTENDEE;ROLE=REQ-PARTICIPANT;PARTSTAT=ACCEPTED;RSVP=TRUE;CN=chris:htt
 ps://epanews.fr/profile/chris378
END:VEVENT
END:VCALENDAR
