BEGIN:VCALENDAR
PRODID:NingEventWidget-v1
VERSION:2.0
METHOD:PUBLISH
BEGIN:VTIMEZONE
TZID:Europe/Paris
X-LIC-LOCATION:Europe/Paris
BEGIN:DAYLIGHT
TZOFFSETFROM:+0100
TZOFFSETTO:+0200
TZNAME:CEST
DTSTART:19700329T020000
RRULE:FREQ=YEARLY;BYMONTH=3;BYDAY=-1SU
END:DAYLIGHT
BEGIN:STANDARD
TZOFFSETFROM:+0200
TZOFFSETTO:+0100
TZNAME:CET
DTSTART:19701025T030000
RRULE:FREQ=YEARLY;BYMONTH=10;BYDAY=-1SU
END:STANDARD
END:VTIMEZONE
BEGIN:VEVENT
UID:2485226:Event:260705
DTSTAMP:20260420T142007Z
SUMMARY:l'intuition, un guide, arrêter d'en douter
DESCRIPTION:Développer son intuition permet de :\n \nContacter ses 
 ressources, son potentiel, sa créativité,\nTrouver des solutions en 
 soi,\nVoir plus clair, mieux écouter, sentir le « juste » en soi,
 \nMieux comprendre les situations difficiles,\nDonner du sens à ce qu
 i nous arrive…\n \nDans ces périodes de grands changements, choisi
 s ou pas du tout choisis, la nécessité de construire son futur au pr
 ésent s’impose. L’intuition nous y aide. Elle est un guide dans l
 ’existence !\n \nVous en doutez ? Venez en parler et peut-être d
 écouvrir qu’il y a simplement quelque chose à ajuster à l’inté
 rieur……\n \n\nPour plus d'information, aller sur https://epanews.
 fr/events/lintuition-un-guide-arreter
DTSTART;TZID=Europe/Paris:20110504T200000
DTEND;TZID=Europe/Paris:20110504T220000
CATEGORIES:83
LOCATION:Salon de thé Bio & Bien-être \"Come à la maison\" Ollioule
 s
WEBSITE:
URL:
CONTACT:04.89.29.67.00
ORGANIZER:Francoise Bach
ATTACH;FMTTYPE="image/jpeg":http://storage.ning.com/topology/rest/1.0/
 file/get/1662405980?profile=original
ATTENDEE;ROLE=REQ-PARTICIPANT;PARTSTAT=ACCEPTED;RSVP=TRUE;CN="Bezard s
 abryna":https://epanews.fr/profile/Bezardsabryna
END:VEVENT
END:VCALENDAR
