BEGIN:VCALENDAR
PRODID:NingEventWidget-v1
VERSION:2.0
METHOD:PUBLISH
BEGIN:VTIMEZONE
TZID:Europe/Paris
X-LIC-LOCATION:Europe/Paris
BEGIN:DAYLIGHT
TZOFFSETFROM:+0100
TZOFFSETTO:+0200
TZNAME:CEST
DTSTART:19700329T020000
RRULE:FREQ=YEARLY;BYMONTH=3;BYDAY=-1SU
END:DAYLIGHT
BEGIN:STANDARD
TZOFFSETFROM:+0200
TZOFFSETTO:+0100
TZNAME:CET
DTSTART:19701025T030000
RRULE:FREQ=YEARLY;BYMONTH=10;BYDAY=-1SU
END:STANDARD
END:VTIMEZONE
BEGIN:VEVENT
UID:2485226:Event:164589
DTSTAMP:20260422T102440Z
SUMMARY:L'instant d'amour: le jardin secret
DESCRIPTION:De l'écoute mutuelle, un débat , des hugs, et un repas a
 près..et hop emballé! Le thème du soir, c'est le jardin secret, alo
 rs peut-être que personne ne dira mot, ce qui serait intéressant...e
 t nous permettrait d'entendre parler le silence...Bisous. Gilles\n\nPo
 ur plus d'information, aller sur https://epanews.fr/events/linstant-da
 mour-le-jardin
DTSTART;TZID=Europe/Paris:20101215T191500
DTEND;TZID=Europe/Paris:20101215T210000
CATEGORIES:83, 13
LOCATION:Toulon
WEBSITE:
URL:
CONTACT:04 94 90 59 01 et 06 15 85 75 62
ORGANIZER;CN="COLLIN gilles":https://epanews.fr/profile/COLLINgilles
ATTACH;FMTTYPE="image/jpeg":
ATTENDEE;ROLE=REQ-PARTICIPANT;PARTSTAT=ACCEPTED;RSVP=TRUE;CN="Eric Beh
 oteguy Hypno-Magnétisme":https://epanews.fr/profile/EricBehoteguy
ATTENDEE;ROLE=REQ-PARTICIPANT;PARTSTAT=ACCEPTED;RSVP=TRUE;CN=ingrasssi
 a:https://epanews.fr/profile/ingrasssia
ATTENDEE;ROLE=REQ-PARTICIPANT;PARTSTAT=ACCEPTED;RSVP=TRUE;CN="COLLIN g
 illes":https://epanews.fr/profile/COLLINgilles
ATTENDEE;ROLE=REQ-PARTICIPANT;PARTSTAT=TENTATIVE;RSVP=TRUE;CN="Monique
  DELNESTE":https://epanews.fr/profile/MoniqueDELNESTE
ATTENDEE;ROLE=REQ-PARTICIPANT;PARTSTAT=TENTATIVE;RSVP=TRUE;CN="andraud
  nicole":https://epanews.fr/profile/andraudnicole
END:VEVENT
END:VCALENDAR
