BEGIN:VCALENDAR
PRODID:NingEventWidget-v1
VERSION:2.0
METHOD:PUBLISH
BEGIN:VTIMEZONE
TZID:Europe/Paris
X-LIC-LOCATION:Europe/Paris
BEGIN:DAYLIGHT
TZOFFSETFROM:+0100
TZOFFSETTO:+0200
TZNAME:CEST
DTSTART:19700329T020000
RRULE:FREQ=YEARLY;BYMONTH=3;BYDAY=-1SU
END:DAYLIGHT
BEGIN:STANDARD
TZOFFSETFROM:+0200
TZOFFSETTO:+0100
TZNAME:CET
DTSTART:19701025T030000
RRULE:FREQ=YEARLY;BYMONTH=10;BYDAY=-1SU
END:STANDARD
END:VTIMEZONE
BEGIN:VEVENT
UID:2485226:Event:1821212
DTSTAMP:20260420T160424Z
SUMMARY:liberez vous avec le coaching créatif
DESCRIPTION:Journée pour comprendre ses faiblesses et développer son
  potentiel, et pour libérer sa créativité.\nUne technique artistiqu
 e est utilisée, il n'est pas utile d'avoir une connaissance artistiqu
 e pour faire cette journée. Vous repartez avec votre oeuvre.\nPrevoir
  une tenue confortable et une tenue qui ne se salit pas. Prevoir aussi
 , pour la pause déjeuner, quelque chose à partager.\nNombre de place
 s limité à 5 personnes, d'autres dates possibles.\n\nPour plus d'inf
 ormation, aller sur https://epanews.fr/events/liberez-vous-avec-le-coa
 ching-cr-atif
DTSTART;TZID=Europe/Paris:20140322T000000
DTEND;TZID=Europe/Paris:20140322T235900
CATEGORIES:13
LOCATION:Aubagne
WEBSITE:
URL:
CONTACT:06 75 91 98 81
ORGANIZER;CN=ktrine:https://epanews.fr/profile/ktrine
ATTACH;FMTTYPE="image/jpeg":
ATTENDEE;ROLE=REQ-PARTICIPANT;PARTSTAT=ACCEPTED;RSVP=TRUE;CN=ktrine:ht
 tps://epanews.fr/profile/ktrine
END:VEVENT
END:VCALENDAR
