BEGIN:VCALENDAR
PRODID:NingEventWidget-v1
VERSION:2.0
METHOD:PUBLISH
BEGIN:VTIMEZONE
TZID:Europe/Paris
X-LIC-LOCATION:Europe/Paris
BEGIN:DAYLIGHT
TZOFFSETFROM:+0100
TZOFFSETTO:+0200
TZNAME:CEST
DTSTART:19700329T020000
RRULE:FREQ=YEARLY;BYMONTH=3;BYDAY=-1SU
END:DAYLIGHT
BEGIN:STANDARD
TZOFFSETFROM:+0200
TZOFFSETTO:+0100
TZNAME:CET
DTSTART:19701025T030000
RRULE:FREQ=YEARLY;BYMONTH=10;BYDAY=-1SU
END:STANDARD
END:VTIMEZONE
BEGIN:VEVENT
UID:2485226:Event:1125914
DTSTAMP:20260422T040932Z
SUMMARY:Modification demandÃ©e
DESCRIPTION:LIBEREZ VOTRE CREATIVITE\n\n\n\n\n\n\n\nÂ \"Ateliers philo
 sophiques et ludiques pour pratiquer l'art d'une vie crÃ©ative\"\nAtel
 ier animÃ© par VÃ©ronique Roger, Art-thÃ©rapeute, diplÃ´mÃ©e de lâ€™Un
 iversitÃ© de Psychologie de Lyon 2.\nAteliÂ 12 semaines pour reconquÃ©
 rir sa crÃ©ativitÃ©\ns'adresse Ã  ......Â ceux et celles qui ont lâ€™i
 ntuition de leur nature crÃ©ative mais ne savent comment lâ€™exprimer,
  ceux et celles qui vivent un changement profond ou qui sont en quÃªte
  de leur vÃ©ritÃ© intÃ©rieure, et aussi aux artistes en panne ou en pÃ
 ©riode de douteâ€¦\n\n\n\n\n\n\n\nÂ  Â  Â  Â DISPOSITIF /Â \nUn rendez
 -vous hebdomadaire de 2hÂ pendant une pÃ©riode de 3 mois\nJeux dâ€™Ã©c
 riture, Temps de paroles,Â Expression artistique,Â Travail individuel 
 chez soi\nPROCESSUS\nÂ Cet atelier met en mouvement et au travail lâ€™
 inconscient crÃ©atif de chacun.Â Il vous permettra de rÃ©vÃ©ler vos as
 pirations, rÃ©veiller vos envies, renouer avec vos rÃªves et deÂ retro
 uver votre inspiration.\nTARIFS et LIEU /10 euros l'atelier, soit 120 
 euros pour les 3 mois\nÂ LodÃ¨ve 5Â rue du 14 juillet\ndans d'autres l
 ieux, ville, village : cela peut se faire chez un(e) participant(e), c
 omme formule d'Ã©change...\nUn groupe dÃ©marre dÃ¨s 6 personnes inscri
 tes.\nInscription pour le cycle Ã  lâ€™issue de la rÃ©union de prÃ©sen
 tation\nVÃ©ronique ROGER Â  / 0672736919\n\n\n\n\n\n\n\n\nPour plus d'
 information, aller sur https://epanews.fr/events/liberez-votre-creativ
 ite
DTSTART;TZID=Europe/Paris:20130125T103000
DTEND;TZID=Europe/Paris:20130125T114500
CATEGORIES:34, 12
LOCATION:LodÃ¨ve
WEBSITE:
URL:
CONTACT:0672736919
ORGANIZER;CN="VÃ©ronique Roger":https://epanews.fr/profile/VeroniqueRo
 ger
ATTACH;FMTTYPE="image/jpeg":http://storage.ning.com/topology/rest/1.0/
 file/get/1662738559?profile=original
ATTENDEE;ROLE=REQ-PARTICIPANT;PARTSTAT=ACCEPTED;RSVP=TRUE;CN="VÃ©roniq
 ue Roger":https://epanews.fr/profile/VeroniqueRoger
END:VEVENT
END:VCALENDAR
