BEGIN:VCALENDAR
PRODID:NingEventWidget-v1
VERSION:2.0
METHOD:PUBLISH
BEGIN:VTIMEZONE
TZID:Europe/Paris
X-LIC-LOCATION:Europe/Paris
BEGIN:DAYLIGHT
TZOFFSETFROM:+0100
TZOFFSETTO:+0200
TZNAME:CEST
DTSTART:19700329T020000
RRULE:FREQ=YEARLY;BYMONTH=3;BYDAY=-1SU
END:DAYLIGHT
BEGIN:STANDARD
TZOFFSETFROM:+0200
TZOFFSETTO:+0100
TZNAME:CET
DTSTART:19701025T030000
RRULE:FREQ=YEARLY;BYMONTH=10;BYDAY=-1SU
END:STANDARD
END:VTIMEZONE
BEGIN:VEVENT
UID:2485226:Event:382636
DTSTAMP:20260425T020158Z
SUMMARY:liberer sa créativité
DESCRIPTION:stage:\nDéveloppement personnel,\nliberer la joie de cr
 er, de participer, de s'investir dans la vie. Transformer les difficu
 ltés en atout, oser être soi.\nHébergement en chalet avec salle de 
 bain, possibilité de cuisiner, arrivée en voiture jusqu'au camping.\
 nclimat convivial, proche de la nature et de GaÏa, dont nous aurons s
 ans doute des messages \n \ntarif stage : 150 euros\nPrix de l'hébe
 rgement, à voir sur le site du camping, puis plus précisement avec e
 ux, suivant vos choix ou nombre de personnes par chalet\nplaces limit
 es, merci de vous inscrire dès que possible \n\nPour plus d'informa
 tion, aller sur https://epanews.fr/events/liberer-sa-creativite
DTSTART;TZID=Europe/Paris:20110731T160000
DTEND;TZID=Europe/Paris:20110803T110000
CATEGORIES:o4
LOCATION:Digne
WEBSITE:http://ww.camping-mandala.fr
URL:http://ww.camping-mandala.fr
CONTACT:0492325026    0688184868
ORGANIZER;CN="marie-francoise BERRUYER":https://epanews.fr/profile/fra
 nce
ATTACH;FMTTYPE="image/jpeg":
ATTENDEE;ROLE=REQ-PARTICIPANT;PARTSTAT=ACCEPTED;RSVP=TRUE;CN="marie-fr
 ancoise BERRUYER":https://epanews.fr/profile/france
END:VEVENT
END:VCALENDAR
