BEGIN:VCALENDAR
PRODID:NingEventWidget-v1
VERSION:2.0
METHOD:PUBLISH
BEGIN:VTIMEZONE
TZID:Europe/Paris
X-LIC-LOCATION:Europe/Paris
BEGIN:DAYLIGHT
TZOFFSETFROM:+0100
TZOFFSETTO:+0200
TZNAME:CEST
DTSTART:19700329T020000
RRULE:FREQ=YEARLY;BYMONTH=3;BYDAY=-1SU
END:DAYLIGHT
BEGIN:STANDARD
TZOFFSETFROM:+0200
TZOFFSETTO:+0100
TZNAME:CET
DTSTART:19701025T030000
RRULE:FREQ=YEARLY;BYMONTH=10;BYDAY=-1SU
END:STANDARD
END:VTIMEZONE
BEGIN:VEVENT
UID:2485226:Event:828079
DTSTAMP:20260420T181209Z
SUMMARY:LibÃ©rer ses Ã©motions avec l'EFT (Technique de LibÃ©ration Ã©
 motionnelle)
DESCRIPTION:avec Brigitte Kirkorian ConfÃ©rence/atelier discussion sui
 vi d'un partage convivial des plats que vous amenerez.  Au cÅ“ur du pr
 intemps venez plantez les graines d'une transformation profonde, pour 
 apprendre Ã  vivre au prÃ©sent. Je vous propose au cours de cet atelie
 rde repÃ©rer les maux, les blocages, les Ã©motions auxquels vous vous 
 accrochez, de les libÃ©rer avec douceur, afin de retrouver la paix nat
 urelle en vous.  L'EFT (technique de libÃ©ration des Ã©motions) est un
 e forme dâ€™accu-pressure simple et efficace qui vise Ã  Ã©quilibrer e
 t harmoniser votre systÃ¨me Ã©nergÃ©tique. Votre corps et votre esprit
  font alors l'expÃ©rience de la joie d'Ãªtre, de la source inÃ©puisabl
 e qui est votre vÃ©ritable nature.  Atelier de 19h Ã  22h (tarif: 25â‚
 ¬) Consultations individuelles 1 h sur rendez vous : (tarif : 45â‚¬)\n
 \nPour plus d'information, aller sur https://epanews.fr/events/lib-rer
 -ses-motions-avec-l-eft-technique-de-lib-ration
DTSTART;TZID=Europe/Paris:20120531T190000
DTEND;TZID=Europe/Paris:20120531T210000
CATEGORIES:13
LOCATION:785 chemin de Bibemus 13100 Aix en Provence
WEBSITE:
URL:
CONTACT:
ORGANIZER;CN=LAYAMA:https://epanews.fr/profile/LAYAMA
ATTACH;FMTTYPE="image/jpeg":http://storage.ning.com/topology/rest/1.0/
 file/get/1662612198?profile=original
ATTENDEE;ROLE=REQ-PARTICIPANT;PARTSTAT=ACCEPTED;RSVP=TRUE;CN=LAYAMA:ht
 tps://epanews.fr/profile/LAYAMA
END:VEVENT
END:VCALENDAR
