BEGIN:VCALENDAR
PRODID:NingEventWidget-v1
VERSION:2.0
METHOD:PUBLISH
BEGIN:VTIMEZONE
TZID:Europe/Paris
X-LIC-LOCATION:Europe/Paris
BEGIN:DAYLIGHT
TZOFFSETFROM:+0100
TZOFFSETTO:+0200
TZNAME:CEST
DTSTART:19700329T020000
RRULE:FREQ=YEARLY;BYMONTH=3;BYDAY=-1SU
END:DAYLIGHT
BEGIN:STANDARD
TZOFFSETFROM:+0200
TZOFFSETTO:+0100
TZNAME:CET
DTSTART:19701025T030000
RRULE:FREQ=YEARLY;BYMONTH=10;BYDAY=-1SU
END:STANDARD
END:VTIMEZONE
BEGIN:VEVENT
UID:2485226:Event:2288655
DTSTAMP:20260423T203127Z
SUMMARY:Libération émotionnelle
DESCRIPTION:Vous avez subi un choc émotionnel dont vous n'arrivez pas
  à vous débarrasser et qui vous encombre dans votre quotidien : acci
 dent, deuil, divorce, rupture.......\n Je vous propose de vous faire 
 découvrir la méthode DECEMO = DEsensibilisation des Chocs Emotionnel
 s par les Mouvements Oculaires.\nC'est une technique très efficace et
  rapide pour se libérer des émotions négatives liées à un évenem
 ent douloureux.\nSouvent une seule séance peut suffire pour s'allége
 r.\nOffre découverte gratuite\n https://harmoniemotionnelle.wordpres
 s.com/decemo \nCréneaux disponibles : 11h - 15h45 Choisir votre hor
 aire à l'inscription (d'autres possibilités sur demande).\n Je vous
  demande de me contacter par téléphone si vous êtes intéressé afi
 n que nous puissions en discuter en quelques mots.\n\nPour plus d'info
 rmation, aller sur https://epanews.fr/events/lib-ration-motionnelle-1
DTSTART;TZID=Europe/Paris:20150410T110000
DTEND;TZID=Europe/Paris:20150410T160000
CATEGORIES:69100
LOCATION:VILLEURBANNE
WEBSITE:https://harmoniemotionnelle.wordpress.com/decemo
URL:https://harmoniemotionnelle.wordpress.com/decemo
CONTACT:06 49 19 19 05
ORGANIZER;CN=Martine:https://epanews.fr/profile/Martine382
ATTACH;FMTTYPE="image/jpeg":
ATTENDEE;ROLE=REQ-PARTICIPANT;PARTSTAT=ACCEPTED;RSVP=TRUE;CN=Martine:h
 ttps://epanews.fr/profile/Martine382
END:VEVENT
END:VCALENDAR
