BEGIN:VCALENDAR
PRODID:NingEventWidget-v1
VERSION:2.0
METHOD:PUBLISH
BEGIN:VTIMEZONE
TZID:Europe/Paris
X-LIC-LOCATION:Europe/Paris
BEGIN:DAYLIGHT
TZOFFSETFROM:+0100
TZOFFSETTO:+0200
TZNAME:CEST
DTSTART:19700329T020000
RRULE:FREQ=YEARLY;BYMONTH=3;BYDAY=-1SU
END:DAYLIGHT
BEGIN:STANDARD
TZOFFSETFROM:+0200
TZOFFSETTO:+0100
TZNAME:CET
DTSTART:19701025T030000
RRULE:FREQ=YEARLY;BYMONTH=10;BYDAY=-1SU
END:STANDARD
END:VTIMEZONE
BEGIN:VEVENT
UID:2485226:Event:965481
DTSTAMP:20260421T125912Z
SUMMARY:Les subtiles facette de l'eau
DESCRIPTION:Conférence /débat \nL'eau peut parfois nous réserver b
 ien des surprises \nAuteur Franck Rajou \nChercheur indépendant , h
 ydrologiste \n\n\nPour plus d'information, aller sur https://epanews.
 fr/events/les-subtiles-facette-de-l-eau
DTSTART;TZID=Europe/Paris:20121017T193000
DTEND;TZID=Europe/Paris:20121017T203000
CATEGORIES:13
LOCATION:Marseille
WEBSITE:
URL:
CONTACT:0681289682
ORGANIZER;CN=tallulah:https://epanews.fr/profile/NEPHEBETH
ATTACH;FMTTYPE="image/jpeg":
ATTENDEE;ROLE=REQ-PARTICIPANT;PARTSTAT=ACCEPTED;RSVP=TRUE;CN=tallulah:
 https://epanews.fr/profile/NEPHEBETH
ATTENDEE;ROLE=REQ-PARTICIPANT;PARTSTAT=TENTATIVE;RSVP=TRUE;CN=joelle13
 500:https://epanews.fr/profile/francaise947
END:VEVENT
END:VCALENDAR
