BEGIN:VCALENDAR
PRODID:NingEventWidget-v1
VERSION:2.0
METHOD:PUBLISH
BEGIN:VTIMEZONE
TZID:Europe/Paris
X-LIC-LOCATION:Europe/Paris
BEGIN:DAYLIGHT
TZOFFSETFROM:+0100
TZOFFSETTO:+0200
TZNAME:CEST
DTSTART:19700329T020000
RRULE:FREQ=YEARLY;BYMONTH=3;BYDAY=-1SU
END:DAYLIGHT
BEGIN:STANDARD
TZOFFSETFROM:+0200
TZOFFSETTO:+0100
TZNAME:CET
DTSTART:19701025T030000
RRULE:FREQ=YEARLY;BYMONTH=10;BYDAY=-1SU
END:STANDARD
END:VTIMEZONE
BEGIN:VEVENT
UID:2485226:Event:470508
DTSTAMP:20260422T170413Z
SUMMARY:\"Les secrets de l'aura dévoilés\"
DESCRIPTION:En partenariat avec l'association USFIPES, conférence-dé
 bat de Daniel Dardour :\nChacun de nous vit un échange permanent avec
  l'univers, et aussi avec ses semblables, à travers le champ radiant 
 qui entoure notre organisme : l'aura - Mais d'où provient cettte irra
 diation ? Joue-t-elle un rôle décisif dans notre vie ? A-t-elle une 
 influence sur notre destin ? - Après l'exposé, Daniel Dardour répon
 dra aux questions des auditeurs - Participation 8 euros -\n\nPour plus
  d'information, aller sur https://epanews.fr/events/les-secrets-de-l-a
 ura-d-voil-s
DTSTART;TZID=Europe/Paris:20110918T150000
DTEND;TZID=Europe/Paris:20110918T170000
CATEGORIES:75
LOCATION:PARIS
WEBSITE:http://graal.org
URL:http://graal.org
CONTACT:06 63 19 87 70
ORGANIZER:Revue \"Monde du Graal\"
ATTACH;FMTTYPE="image/jpeg":
ATTENDEE;ROLE=REQ-PARTICIPANT;PARTSTAT=ACCEPTED;RSVP=TRUE;CN="Bernard 
 Penverne":https://epanews.fr/profile/BernardPenverne
END:VEVENT
END:VCALENDAR
