BEGIN:VCALENDAR
PRODID:NingEventWidget-v1
VERSION:2.0
METHOD:PUBLISH
BEGIN:VTIMEZONE
TZID:Europe/Paris
X-LIC-LOCATION:Europe/Paris
BEGIN:DAYLIGHT
TZOFFSETFROM:+0100
TZOFFSETTO:+0200
TZNAME:CEST
DTSTART:19700329T020000
RRULE:FREQ=YEARLY;BYMONTH=3;BYDAY=-1SU
END:DAYLIGHT
BEGIN:STANDARD
TZOFFSETFROM:+0200
TZOFFSETTO:+0100
TZNAME:CET
DTSTART:19701025T030000
RRULE:FREQ=YEARLY;BYMONTH=10;BYDAY=-1SU
END:STANDARD
END:VTIMEZONE
BEGIN:VEVENT
UID:2485226:Event:2910280
DTSTAMP:20260420T111504Z
SUMMARY:Les secrets de l'abondance
DESCRIPTION:LESÂ  SECRETSÂ  DEÂ  Lâ€™ABONDANCE\nAnimÃ©e par :Â Martine
  GAGNON\nDiplÃ´mÃ©eÂ Â de lâ€™INAÂ  Â (Institut des neurosciences appl
 iquÃ©es de David Lefrancois)et de lâ€™EcoleÂ Â E.T.C Â fondÃ©e par Â L
 ise BourbeauÂ et praticienne en massage californien et ayurvÃ©dique.\n
 DateÂ Â Â Â Â  Â  Â  Â Â Â Â Â :Â Â Â Mercredi 24Â  JanvierÂ Â \nHeure
 Â Â Â Â  Â Â Â Â Â Â Â :Â Â Â 14 h Ã Â 17Â h 30\nLieuÂ Â Â Â Â Â  Â  Â
  Â Â Â Â Â :Â Â Â 95600Â Â Eaubonne. (10 km de Paris)\nRÃ©servationÂ Â
  Â :Â  Â 06 87 62 31 18Â Â Â  Â  -Â Â  Â Â e-mail :Â martine.gagnon@ho
 tmail.frÂ \nLâ€™abondance Ã§a sâ€™apprend.\nCet atelier vise Ã  vous f
 aire dÃ©couvrir, les moyensÂ  pour attirer davantage lâ€™abondanceÂ  e
 tÂ  laÂ Â  prospÃ©ritÃ©Â Â  dansÂ  votreÂ  vie. Vous apprendrez Ã  rel
 ever des dÃ©fisÂ  Ã  traversÂ  de nouveaux comportements. Je vous invi
 te Ã  vous rÃ©concilier avecÂ la prospÃ©ritÃ© qu'elle soit personnelle
 , dâ€™ordre matÃ©rielle sentimentale, Ã  propos de la santÃ© ou profes
 sionnelle...Â \nOui, il est possible de trouver simultanÃ©ment sÃ©rÃ©n
 itÃ© et abondance !\nOui, il est possible de se rÃ©concilier avec lâ€™
 argent !\nÂ Vous arrive-t-il d'avoirÂ  peur de manquerÂ ?\nVous arrive
 -t-il dâ€™avoir peur de rÃ©ussir ?Â \nVous arrive-t-il de ressentir un
 e gÃªne face Ã  lâ€™argentÂ ?\nClarifier votre rapport Ã  lâ€™argent e
 n transformant vos croyances limitantesÂ Â Â Â Â Â Â Â Â  en croyances
  gÃ©nÃ©ratrices dâ€™abondances.\nÂ Si vous voulez Â avoirÂ  de bons ou
 tils pour atteindre lâ€™abondance, Â ressentir l'Ã©nergie de l'abondan
 ce cet atelierÂ  est fait pour vous.\nSi tout cela rÃ©sonne en vous, c
 et atelier est fait pour vous.\nmartine.gagnon@hotmail.frÂ Â Â  -Â  06
  87 62 31 18Â Â Â  -Â Â  Participation : 25 â‚¬\n\n\nPour plus d'infor
 mation, aller sur https://epanews.fr/events/les-secrets-de-l-abondance
DTSTART;TZID=Europe/Paris:20180124T140000
DTEND;TZID=Europe/Paris:20180124T173000
CATEGORIES:95
LOCATION:Espace Coaching Confiance
WEBSITE:http://coaching-confiance.com/
URL:http://coaching-confiance.com/
CONTACT:0687623118
ORGANIZER;CN="Martine gagnon":https://epanews.fr/profile/Martinegagnon
ATTACH;FMTTYPE="image/jpeg":http://storage.ning.com/topology/rest/1.0/
 file/get/1663703745?profile=original
ATTENDEE;ROLE=REQ-PARTICIPANT;PARTSTAT=ACCEPTED;RSVP=TRUE;CN="Martine 
 gagnon":https://epanews.fr/profile/Martinegagnon
END:VEVENT
END:VCALENDAR
